BEGIN:VCALENDAR
VERSION:2.0
PRODID:-//Greater Green Bay Chamber - ECPv6.15.20//NONSGML v1.0//EN
CALSCALE:GREGORIAN
METHOD:PUBLISH
X-WR-CALNAME:Greater Green Bay Chamber
X-ORIGINAL-URL:https://www.greatergbc.org
X-WR-CALDESC:Events for Greater Green Bay Chamber
REFRESH-INTERVAL;VALUE=DURATION:PT1H
X-Robots-Tag:noindex
X-PUBLISHED-TTL:PT1H
BEGIN:VTIMEZONE
TZID:America/Chicago
BEGIN:DAYLIGHT
TZOFFSETFROM:-0600
TZOFFSETTO:-0500
TZNAME:CDT
DTSTART:20240310T080000
END:DAYLIGHT
BEGIN:STANDARD
TZOFFSETFROM:-0500
TZOFFSETTO:-0600
TZNAME:CST
DTSTART:20241103T070000
END:STANDARD
BEGIN:DAYLIGHT
TZOFFSETFROM:-0600
TZOFFSETTO:-0500
TZNAME:CDT
DTSTART:20250309T080000
END:DAYLIGHT
BEGIN:STANDARD
TZOFFSETFROM:-0500
TZOFFSETTO:-0600
TZNAME:CST
DTSTART:20251102T070000
END:STANDARD
BEGIN:DAYLIGHT
TZOFFSETFROM:-0600
TZOFFSETTO:-0500
TZNAME:CDT
DTSTART:20260308T080000
END:DAYLIGHT
BEGIN:STANDARD
TZOFFSETFROM:-0500
TZOFFSETTO:-0600
TZNAME:CST
DTSTART:20261101T070000
END:STANDARD
END:VTIMEZONE
BEGIN:VEVENT
DTSTART;TZID=America/Chicago:20251201T134500
DTEND;TZID=America/Chicago:20251201T144500
DTSTAMP:20260420T090041
CREATED:20251124T175346Z
LAST-MODIFIED:20251124T175437Z
UID:9168-1764596700-1764600300@www.greatergbc.org
SUMMARY:Ribbon Cutting: Rapid Refuels
DESCRIPTION:Join us to celebrate a ribbon cutting for Rapid Refuels at the Greater Green Bay Chamber’s Startup Hub! Rapid Refuel makes getting gas or a car wash as easy as tapping an app on your phone. A membership-based fuel delivery in Green Bay-think Doordash but for your fuel—whether you need regular or diesel fuel. Add an exterior car wash during your fill-up or simply schedule a wash for even more convenience. “Skip the station. Ditch the lines”  \n\n\n\n\n\n\n\n\n\nevent details\n\n\n\n\n\nParking and Wayfinding Instructions: From Packerland\, pass the Green Bay Botanical Gardens and the Startup Hub will be on your left. From West Mason\, follow E Campus Dr\, then turn left onto Larsen Rd. and the Startup Hub will be on your left. Parking is available in the front of the building. \n\n\n\n\n\n\n\nlocation\n\n\n\nThe Startup Hub – 2701 Larsen Rd. #A1\, Green Bay\, WI 54303 \n\n\n\n\n\n\n\n\n\nWe reserve the right to refuse registration or deny entry to any individual\, or to request that any attendee leave the event\, at our sole discretion and without prior notice. \n\n\n\n\n\nEvent Photography: Please be advised that photo or video may be taken at this event for use on the Chamber website\, social media\, and/or other promotional materials. Your attendance at this event\, gives consent to the Greater Green Bay Chamber to use your image and likeness for educational\, archival\, or promotional purposes. \n\n\n\n\n\n\n\nQuestions?Contact Membership Engagement Manager\, Annika Osell.
URL:https://www.greatergbc.org/event/ribbon-cutting-rapid-refuels/
CATEGORIES:Member Events,Ribbon Cuttings
END:VEVENT
END:VCALENDAR