BEGIN:VCALENDAR
VERSION:2.0
PRODID:-//Greater Green Bay Chamber - ECPv6.15.20//NONSGML v1.0//EN
CALSCALE:GREGORIAN
METHOD:PUBLISH
X-WR-CALNAME:Greater Green Bay Chamber
X-ORIGINAL-URL:https://www.greatergbc.org
X-WR-CALDESC:Events for Greater Green Bay Chamber
REFRESH-INTERVAL;VALUE=DURATION:PT1H
X-Robots-Tag:noindex
X-PUBLISHED-TTL:PT1H
BEGIN:VTIMEZONE
TZID:America/Chicago
BEGIN:DAYLIGHT
TZOFFSETFROM:-0600
TZOFFSETTO:-0500
TZNAME:CDT
DTSTART:20240310T080000
END:DAYLIGHT
BEGIN:STANDARD
TZOFFSETFROM:-0500
TZOFFSETTO:-0600
TZNAME:CST
DTSTART:20241103T070000
END:STANDARD
BEGIN:DAYLIGHT
TZOFFSETFROM:-0600
TZOFFSETTO:-0500
TZNAME:CDT
DTSTART:20250309T080000
END:DAYLIGHT
BEGIN:STANDARD
TZOFFSETFROM:-0500
TZOFFSETTO:-0600
TZNAME:CST
DTSTART:20251102T070000
END:STANDARD
BEGIN:DAYLIGHT
TZOFFSETFROM:-0600
TZOFFSETTO:-0500
TZNAME:CDT
DTSTART:20260308T080000
END:DAYLIGHT
BEGIN:STANDARD
TZOFFSETFROM:-0500
TZOFFSETTO:-0600
TZNAME:CST
DTSTART:20261101T070000
END:STANDARD
END:VTIMEZONE
BEGIN:VEVENT
DTSTART;TZID=America/Chicago:20251204T160000
DTEND;TZID=America/Chicago:20251204T173000
DTSTAMP:20260420T090044
CREATED:20251110T172328Z
LAST-MODIFIED:20251126T145049Z
UID:8957-1764864000-1764869400@www.greatergbc.org
SUMMARY:Ribbon Cutting: Off The App Dating
DESCRIPTION:Join us to celebrate a ribbon cutting for Off The App Dating! Off The App Dating is redefining how people connect in Northeast Wisconsin. Born out of a love for genuine human connection\, this locally founded matchmaking and social events company offers a refreshing escape from the endless swiping and surface-level conversations of online dating. Rooted in hospitality and community\, Off The App Dating blends warmth\, creativity\, and intention into every detail. \n\n\n\n\n\n\n\n\n\nEvent Details\n\n\n\n\n\nParking Instructions: The Urban Hub is located at 340 N Broadway #200. There is a parking lot with ample parking behind the building (off of Donald Driver Way). If you enter from the parking lot side\, follow signs for “north” inside the building (to the right). If you are entering off of N Broadway\, the elevator will be straight ahead from the 340 Broadway doors. You can use the “north” elevator or stairway to get up to the Urban Hub. \n\n\n\n\n\nlocation\n\n\n\nUrban Hub: 340 N. Broadway\, Suite 200\, Green Bay\, WI 54303 \n\n\n\n\n\n\n\n\n\nagenda\n\n\n\nRibbon Cutting Gather Time: 4:00 p.m. – Guests are invited to arrive\, check in\, and enjoy light refreshments while connecting with fellow Chamber members and community partners.Ribbon Cutting Start Time: 4:30 p.m. – Remarks from the Greater Green Bay Chamber\, community partners\, and Cassandra Lambert\, founder of Off The App Dating. \n\n\n\nRibbon Cutting Reception: 4:45-5:30 p.m. – Stay to enjoy refreshments and light appetizers. Networking and photo opportunities will be available. \n\n\n\n\n\n\n\nWe reserve the right to refuse registration or deny entry to any individual\, or to request that any attendee leave the event\, at our sole discretion and without prior notice. \n\n\n\n\n\nEvent Photography: Please be advised that photo or video may be taken at this event for use on the Chamber website\, social media\, and/or other promotional materials. Your attendance at this event\, gives consent to the Greater Green Bay Chamber to use your image and likeness for educational\, archival\, or promotional purposes. \n\n\n\n\n\n\n\nQuestions?Contact Membership Engagement Manager\, Annika Osell.
URL:https://www.greatergbc.org/event/ribbon-cutting-off-the-app-dating/
CATEGORIES:Member Events,Ribbon Cuttings
END:VEVENT
END:VCALENDAR