BEGIN:VCALENDAR
VERSION:2.0
PRODID:-//Greater Green Bay Chamber - ECPv6.15.20//NONSGML v1.0//EN
CALSCALE:GREGORIAN
METHOD:PUBLISH
X-ORIGINAL-URL:https://www.greatergbc.org
X-WR-CALDESC:Events for Greater Green Bay Chamber
REFRESH-INTERVAL;VALUE=DURATION:PT1H
X-Robots-Tag:noindex
X-PUBLISHED-TTL:PT1H
BEGIN:VTIMEZONE
TZID:America/Chicago
BEGIN:DAYLIGHT
TZOFFSETFROM:-0600
TZOFFSETTO:-0500
TZNAME:CDT
DTSTART:20240310T080000
END:DAYLIGHT
BEGIN:STANDARD
TZOFFSETFROM:-0500
TZOFFSETTO:-0600
TZNAME:CST
DTSTART:20241103T070000
END:STANDARD
BEGIN:DAYLIGHT
TZOFFSETFROM:-0600
TZOFFSETTO:-0500
TZNAME:CDT
DTSTART:20250309T080000
END:DAYLIGHT
BEGIN:STANDARD
TZOFFSETFROM:-0500
TZOFFSETTO:-0600
TZNAME:CST
DTSTART:20251102T070000
END:STANDARD
BEGIN:DAYLIGHT
TZOFFSETFROM:-0600
TZOFFSETTO:-0500
TZNAME:CDT
DTSTART:20260308T080000
END:DAYLIGHT
BEGIN:STANDARD
TZOFFSETFROM:-0500
TZOFFSETTO:-0600
TZNAME:CST
DTSTART:20261101T070000
END:STANDARD
END:VTIMEZONE
BEGIN:VEVENT
DTSTART;TZID=America/Chicago:20251208T151500
DTEND;TZID=America/Chicago:20251208T161500
DTSTAMP:20260420T090148
CREATED:20251125T185741Z
LAST-MODIFIED:20251125T185832Z
UID:9185-1765206900-1765210500@www.greatergbc.org
SUMMARY:Ribbon Cutting: Michael Best
DESCRIPTION:Come celebrate the ribbon cutting of the Michael Best Green Bay office! Michael Best is a leading law firm\, providing a full range of legal services to clients around the world. With more than 400 legal and business professionals\, including over 325 lawyers\, serving clients in 18 offices nationwide\, Michael Best is committed to combining legal excellence with strategic business insights to deliver high-quality client service. \n\n\n\n\n\n\n\nevent details\n\n\n\n\n\nParking: Free parking available in the U.S. Venture Center parking lot \n\n\n\n\n\n\n\nlocation\n\n\n\nMichael Best – 1175 Lombardi Ave\, Suite 150\, Ashwaubenon\, WI 54304 \n\n\n\n\n\n\n\n\n\nWe reserve the right to refuse registration or deny entry to any individual\, or to request that any attendee leave the event\, at our sole discretion and without prior notice. \n\n\n\n\n\nEvent Photography: Please be advised that photo or video may be taken at this event for use on the Chamber website\, social media\, and/or other promotional materials. Your attendance at this event\, gives consent to the Greater Green Bay Chamber to use your image and likeness for educational\, archival\, or promotional purposes. \n\n\n\n\n\n\n\nQuestions?Contact Membership Engagement Manager\, Annika Osell.
URL:https://www.greatergbc.org/event/ribbon-cutting-michael-best/
CATEGORIES:Member Events,Ribbon Cuttings
END:VEVENT
END:VCALENDAR