BEGIN:VCALENDAR
VERSION:2.0
PRODID:-//Greater Green Bay Chamber - ECPv6.15.20//NONSGML v1.0//EN
CALSCALE:GREGORIAN
METHOD:PUBLISH
X-ORIGINAL-URL:https://www.greatergbc.org
X-WR-CALDESC:Events for Greater Green Bay Chamber
REFRESH-INTERVAL;VALUE=DURATION:PT1H
X-Robots-Tag:noindex
X-PUBLISHED-TTL:PT1H
BEGIN:VTIMEZONE
TZID:America/Chicago
BEGIN:DAYLIGHT
TZOFFSETFROM:-0600
TZOFFSETTO:-0500
TZNAME:CDT
DTSTART:20250309T080000
END:DAYLIGHT
BEGIN:STANDARD
TZOFFSETFROM:-0500
TZOFFSETTO:-0600
TZNAME:CST
DTSTART:20251102T070000
END:STANDARD
BEGIN:DAYLIGHT
TZOFFSETFROM:-0600
TZOFFSETTO:-0500
TZNAME:CDT
DTSTART:20260308T080000
END:DAYLIGHT
BEGIN:STANDARD
TZOFFSETFROM:-0500
TZOFFSETTO:-0600
TZNAME:CST
DTSTART:20261101T070000
END:STANDARD
BEGIN:DAYLIGHT
TZOFFSETFROM:-0600
TZOFFSETTO:-0500
TZNAME:CDT
DTSTART:20270314T080000
END:DAYLIGHT
BEGIN:STANDARD
TZOFFSETFROM:-0500
TZOFFSETTO:-0600
TZNAME:CST
DTSTART:20271107T070000
END:STANDARD
END:VTIMEZONE
BEGIN:VEVENT
DTSTART;TZID=America/Chicago:20260129T170000
DTEND;TZID=America/Chicago:20260129T183000
DTSTAMP:20260420T061846
CREATED:20251215T220953Z
LAST-MODIFIED:20260119T161554Z
UID:9450-1769706000-1769711400@www.greatergbc.org
SUMMARY:CYP: Wellness in Practice - Nutrition Essentials
DESCRIPTION:Wellness in Practice: Nutrition Essentials\n\n\n\nJoin us for an engaging and interactive nutrition presentation designed to help you take practical steps toward healthier eating habits in the New Year! \n\n\n\n\n\n\n\nEvent details\n\n\n\n\n\nRegister Here\n\n\n\n\n\n\n\nlocation\n\n\n\nCedar Creek Event Center: 1018 Cedar St.\, De Pere\, WI 54115 \n\n\n\n\n\n\n\n\n\nSpeakers\n\n\n\nMallory Baerenwald is an Assistant Teaching Professor at UWGB. She has her Undergraduate Degree in Human Biology with an Emphasis in Dietetics\, her Master’s Degree in Dietic Studies\, and is a Registered Dietitian. Heather Masters is a clinical care coordinator with a Master’s Degree in Nutrition and Integrated Health. She is also the Dietic Internship Director for the Dietic Internship program at UWGB and a Registered Dietician. \n\n\n\n\n\n\n\nKey takeaways\n\n\n\n\nIdentify personal barriers and challenges in meal planning and lifestyle habits.\n\n\n\nLearn sustainable strategies for making small changes such as easy meal prep recipes.\n\n\n\nBrainstorm solutions to build confidence in making nutritional changes.\n\n\n\n\n\n\nagenda\n\n\n\n5:00 p.m. | Arrival and Networking \n\n\n\n5:20 p.m. | Presentation by the speakers \n\n\n\n6:00 p.m. | Question & Answer \n\n\n\n6:30 p.m. | Event concludes \n\n\n\n\n\n\n\nThank you to Cedar Creek of De Pere for hosting us! Thank you to the Develops Committee for coordinating this event. Special thanks to Mallory and Heather for partnering with us! \n\n\n\n\n\n\n\nWe reserve the right to refuse registration or deny entry to any individual\, or to request that any attendee leave the event\, at our sole discretion and without prior notice. \n\n\n\n\n\nEvent Photography: Please be advised that photo or video may be taken at this event for use on the Chamber website\, social media\, and/or other promotional materials. Your attendance at this event\, gives consent to the Greater Green Bay Chamber to use your image and likeness for educational\, archival\, or promotional purposes. \n\n\n\n\n\nRefund Policy: As a non-profit\, all funds received from this event directly impact and support the critical programs and operations of the Greater Green Bay Chamber. Therefore\, we do not issue refunds for cancellations. We appreciate your understanding. \n\n\n\n\n\n\n\n\n\nQuestions?Contact Young Professionals Manager\, Ashlee Vyskocil.
URL:https://www.greatergbc.org/event/cyp-wellness-in-practice-nutrition-essentials/
CATEGORIES:Talent & Education Events
END:VEVENT
END:VCALENDAR