BEGIN:VCALENDAR
VERSION:2.0
PRODID:-//Greater Green Bay Chamber - ECPv6.15.20//NONSGML v1.0//EN
CALSCALE:GREGORIAN
METHOD:PUBLISH
X-ORIGINAL-URL:https://www.greatergbc.org
X-WR-CALDESC:Events for Greater Green Bay Chamber
REFRESH-INTERVAL;VALUE=DURATION:PT1H
X-Robots-Tag:noindex
X-PUBLISHED-TTL:PT1H
BEGIN:VTIMEZONE
TZID:America/Chicago
BEGIN:DAYLIGHT
TZOFFSETFROM:-0600
TZOFFSETTO:-0500
TZNAME:CDT
DTSTART:20250309T080000
END:DAYLIGHT
BEGIN:STANDARD
TZOFFSETFROM:-0500
TZOFFSETTO:-0600
TZNAME:CST
DTSTART:20251102T070000
END:STANDARD
BEGIN:DAYLIGHT
TZOFFSETFROM:-0600
TZOFFSETTO:-0500
TZNAME:CDT
DTSTART:20260308T080000
END:DAYLIGHT
BEGIN:STANDARD
TZOFFSETFROM:-0500
TZOFFSETTO:-0600
TZNAME:CST
DTSTART:20261101T070000
END:STANDARD
BEGIN:DAYLIGHT
TZOFFSETFROM:-0600
TZOFFSETTO:-0500
TZNAME:CDT
DTSTART:20270314T080000
END:DAYLIGHT
BEGIN:STANDARD
TZOFFSETFROM:-0500
TZOFFSETTO:-0600
TZNAME:CST
DTSTART:20271107T070000
END:STANDARD
END:VTIMEZONE
BEGIN:VEVENT
DTSTART;TZID=America/Chicago:20260203T080000
DTEND;TZID=America/Chicago:20260203T093000
DTSTAMP:20260420T062010
CREATED:20251203T131919Z
LAST-MODIFIED:20260202T193909Z
UID:9303-1770105600-1770111000@www.greatergbc.org
SUMMARY:Chamber Networking Breakfast Series: Speed Networking
DESCRIPTION:Speed Networking\n\n\n\nJoin us for our Chamber Networking Breakfast Series\, presented by Peterson\, Berk & Cross\, S.C.! This is your chance to enjoy delicious breakfast and connect with other Chamber members. \n\n\n\nThis is a networking event designed to help you maximize interaction and provide opportunities for members to build connections with numerous attendees. Remember to bring business cards and company literature to exchange with fellow attendees. \n\n\n\n\n\n\n\nEvent Details\n\n\n\n\n\nRegistration has been closed for the Speed Networking Breakfast.  \n\n\n\n\n\n\n\nlocation\n\n\n\nHeritage Hill State Historical Park – 2640 S. Webster Ave.\, Green Bay\, WI 54301 \n\n\n\n\n\n\n\n\n\nWe reserve the right to refuse registration or deny entry to any individual\, or to request that any attendee leave the event\, at our sole discretion and without prior notice. \n\n\n\n\n\nEvent Photography: Please be advised that photo or video may be taken at this event for use on the Chamber website\, social media\, and/or other promotional materials. Your attendance at this event\, gives consent to the Greater Green Bay Chamber to use your image and likeness for educational\, archival\, or promotional purposes. \n\n\n\n\n\nRefund Policy: As a non-profit\, all funds received from this event directly impact and support the critical programs and operations of the Greater Green Bay Chamber. Therefore\, we do not issue refunds for cancellations. We appreciate your understanding. \n\n\n\n\n\n\n\n\n\nQuestions?Contact Membership Engagement Manager\, Annika Osell.
URL:https://www.greatergbc.org/event/chamber-networking-breakfast-series-speed-networking-2/
CATEGORIES:Member Events
END:VEVENT
END:VCALENDAR