BEGIN:VCALENDAR
VERSION:2.0
PRODID:-//Greater Green Bay Chamber - ECPv6.15.20//NONSGML v1.0//EN
CALSCALE:GREGORIAN
METHOD:PUBLISH
X-WR-CALNAME:Greater Green Bay Chamber
X-ORIGINAL-URL:https://www.greatergbc.org
X-WR-CALDESC:Events for Greater Green Bay Chamber
REFRESH-INTERVAL;VALUE=DURATION:PT1H
X-Robots-Tag:noindex
X-PUBLISHED-TTL:PT1H
BEGIN:VTIMEZONE
TZID:America/Chicago
BEGIN:DAYLIGHT
TZOFFSETFROM:-0600
TZOFFSETTO:-0500
TZNAME:CDT
DTSTART:20250309T080000
END:DAYLIGHT
BEGIN:STANDARD
TZOFFSETFROM:-0500
TZOFFSETTO:-0600
TZNAME:CST
DTSTART:20251102T070000
END:STANDARD
BEGIN:DAYLIGHT
TZOFFSETFROM:-0600
TZOFFSETTO:-0500
TZNAME:CDT
DTSTART:20260308T080000
END:DAYLIGHT
BEGIN:STANDARD
TZOFFSETFROM:-0500
TZOFFSETTO:-0600
TZNAME:CST
DTSTART:20261101T070000
END:STANDARD
BEGIN:DAYLIGHT
TZOFFSETFROM:-0600
TZOFFSETTO:-0500
TZNAME:CDT
DTSTART:20270314T080000
END:DAYLIGHT
BEGIN:STANDARD
TZOFFSETFROM:-0500
TZOFFSETTO:-0600
TZNAME:CST
DTSTART:20271107T070000
END:STANDARD
END:VTIMEZONE
BEGIN:VEVENT
DTSTART;TZID=America/Chicago:20260409T124500
DTEND;TZID=America/Chicago:20260409T134500
DTSTAMP:20260420T062141
CREATED:20260403T161309Z
LAST-MODIFIED:20260403T161417Z
UID:10572-1775738700-1775742300@www.greatergbc.org
SUMMARY:Ribbon Cutting & Grand Opening: Many Sided Marie's
DESCRIPTION:Come celebrate the official ribbon cutting and grand opening of Many Sided Marie’s! Guests are invited to enjoy samples of Chef Marie’s many sided signature dishes\, showcasing a diverse blend of cultural flavors and culinary influences. Amber is the powerhouse behind Many Sided Marie’s\, bringing a vision of elevated soul food to the heart of Green Bay. \n\n\n\n\n\n\n\nEvent Details\n\n\n\n\n\nParking: Parking lot is available on site \n\n\n\n\n\nLOCATION\n\n\n\nMany Sided Marie’s – 2750 Ramada Way\, Green Bay\, WI 54304 \n\n\n\n\n\n\n\n\n\n\n\nWe reserve the right to refuse registration or deny entry to any individual\, or to request that any attendee leave the event\, at our sole discretion and without prior notice. \n\n\n\n\n\nEvent Photography: Please be advised that photo or video may be taken at this event for use on the Chamber website\, social media\, and/or other promotional materials. Your attendance at this event\, gives consent to the Greater Green Bay Chamber to use your image and likeness for educational\, archival\, or promotional purposes. \n\n\n\n\n\n\n\n\n\nQuestions?Contact Membership Engagement Manager\, Annika Osell.
URL:https://www.greatergbc.org/event/ribbon-cutting-grand-opening-many-sided-maries/
CATEGORIES:Member Events,Ribbon Cuttings
END:VEVENT
END:VCALENDAR