BEGIN:VCALENDAR
VERSION:2.0
PRODID:-//Greater Green Bay Chamber - ECPv6.15.20//NONSGML v1.0//EN
CALSCALE:GREGORIAN
METHOD:PUBLISH
X-WR-CALNAME:Greater Green Bay Chamber
X-ORIGINAL-URL:https://www.greatergbc.org
X-WR-CALDESC:Events for Greater Green Bay Chamber
REFRESH-INTERVAL;VALUE=DURATION:PT1H
X-Robots-Tag:noindex
X-PUBLISHED-TTL:PT1H
BEGIN:VTIMEZONE
TZID:America/Chicago
BEGIN:DAYLIGHT
TZOFFSETFROM:-0600
TZOFFSETTO:-0500
TZNAME:CDT
DTSTART:20250309T080000
END:DAYLIGHT
BEGIN:STANDARD
TZOFFSETFROM:-0500
TZOFFSETTO:-0600
TZNAME:CST
DTSTART:20251102T070000
END:STANDARD
BEGIN:DAYLIGHT
TZOFFSETFROM:-0600
TZOFFSETTO:-0500
TZNAME:CDT
DTSTART:20260308T080000
END:DAYLIGHT
BEGIN:STANDARD
TZOFFSETFROM:-0500
TZOFFSETTO:-0600
TZNAME:CST
DTSTART:20261101T070000
END:STANDARD
BEGIN:DAYLIGHT
TZOFFSETFROM:-0600
TZOFFSETTO:-0500
TZNAME:CDT
DTSTART:20270314T080000
END:DAYLIGHT
BEGIN:STANDARD
TZOFFSETFROM:-0500
TZOFFSETTO:-0600
TZNAME:CST
DTSTART:20271107T070000
END:STANDARD
END:VTIMEZONE
BEGIN:VEVENT
DTSTART;TZID=America/Chicago:20260507T151500
DTEND;TZID=America/Chicago:20260507T171500
DTSTAMP:20260420T061612
CREATED:20260415T214258Z
LAST-MODIFIED:20260415T214454Z
UID:10821-1778166900-1778174100@www.greatergbc.org
SUMMARY:Ribbon Cutting: Ascher's Janitorial Services\, LLC
DESCRIPTION:Join us for a ribbon cutting to celebrate the 20th anniversary of Ascher’s Janitorial Services! Ascher’s Janitorial Services is a modern janitorial company with a team focused on customer satisfaction through these four pillars: Respect\, Trust\, Transparency\, and Leadership. \n\n\n\n\n\n\n\nEvent details\n\n\n\n\n\nParking: Parking lot and street parking available \n\n\n\n\n\nlocation\n\n\n\nAscher’s Janitorial Services\, LLC – 2916 County Road EE\, Abrams\, WI 54301 \n\n\n\n\n\n\n\n\n\nWe reserve the right to refuse registration or deny entry to any individual\, or to request that any attendee leave the event\, at our sole discretion and without prior notice. \n\n\n\n\n\nEvent Photography: Please be advised that photo or video may be taken at this event for use on the Chamber website\, social media\, and/or other promotional materials. Your attendance at this event\, gives consent to the Greater Green Bay Chamber to use your image and likeness for educational\, archival\, or promotional purposes. \n\n\n\n\n\n\n\nQuestions?Contact Membership Engagement Manager\, Annika Osell.
URL:https://www.greatergbc.org/event/ribbon-cutting-aschers-janitorial-services-llc/
CATEGORIES:Member Events,Ribbon Cuttings
END:VEVENT
END:VCALENDAR