BEGIN:VCALENDAR
VERSION:2.0
PRODID:-//Greater Green Bay Chamber - ECPv6.15.20//NONSGML v1.0//EN
CALSCALE:GREGORIAN
METHOD:PUBLISH
X-WR-CALNAME:Greater Green Bay Chamber
X-ORIGINAL-URL:https://www.greatergbc.org
X-WR-CALDESC:Events for Greater Green Bay Chamber
REFRESH-INTERVAL;VALUE=DURATION:PT1H
X-Robots-Tag:noindex
X-PUBLISHED-TTL:PT1H
BEGIN:VTIMEZONE
TZID:America/Chicago
BEGIN:DAYLIGHT
TZOFFSETFROM:-0600
TZOFFSETTO:-0500
TZNAME:CDT
DTSTART:20250309T080000
END:DAYLIGHT
BEGIN:STANDARD
TZOFFSETFROM:-0500
TZOFFSETTO:-0600
TZNAME:CST
DTSTART:20251102T070000
END:STANDARD
BEGIN:DAYLIGHT
TZOFFSETFROM:-0600
TZOFFSETTO:-0500
TZNAME:CDT
DTSTART:20260308T080000
END:DAYLIGHT
BEGIN:STANDARD
TZOFFSETFROM:-0500
TZOFFSETTO:-0600
TZNAME:CST
DTSTART:20261101T070000
END:STANDARD
BEGIN:DAYLIGHT
TZOFFSETFROM:-0600
TZOFFSETTO:-0500
TZNAME:CDT
DTSTART:20270314T080000
END:DAYLIGHT
BEGIN:STANDARD
TZOFFSETFROM:-0500
TZOFFSETTO:-0600
TZNAME:CST
DTSTART:20271107T070000
END:STANDARD
END:VTIMEZONE
BEGIN:VEVENT
DTSTART;TZID=America/Chicago:20260513T163000
DTEND;TZID=America/Chicago:20260513T183000
DTSTAMP:20260420T061702
CREATED:20260331T184527Z
LAST-MODIFIED:20260331T184529Z
UID:10461-1778689800-1778697000@www.greatergbc.org
SUMMARY:Business After Hours at HME Home Medical
DESCRIPTION:Join us for Business After Hours at HME Home Medical! You’ll get a behind-the-scenes look at their facility\, test drive mobility scooters through an obstacle course or relax in a lift chair. \n\n\n\n\n\n\n\nevent details\n\n\n\n\n\nRegister Here\n\n\n\n\n\nlocation\n\n\n\nHME Home Medical – 2021 Riverside Drive\, Green Bay\, WI 54301 \n\n\n\n\n\n\n\n\n\n\n\nWe reserve the right to refuse registration or deny entry to any individual\, or to request that any attendee leave the event\, at our sole discretion and without prior notice. \n\n\n\n\n\nEvent Photography: Please be advised that photo or video may be taken at this event for use on the Chamber website\, social media\, and/or other promotional materials. Your attendance at this event\, gives consent to the Greater Green Bay Chamber to use your image and likeness for educational\, archival\, or promotional purposes. \n\n\n\n\n\nRefund Policy: As a non-profit\, all funds received from this event directly impact and support the critical programs and operations of the Greater Green Bay Chamber. Therefore\, we do not issue refunds for cancellations. We appreciate your understanding. \n\n\n\n\n\n\n\n\n\n\n\nQuestions?Contact Membership Engagement Manager\, Annika Osell.
URL:https://www.greatergbc.org/event/business-after-hours-at-hme-home-medical/
CATEGORIES:Member Events
END:VEVENT
BEGIN:VEVENT
DTSTART;TZID=America/Chicago:20260513T173000
DTEND;TZID=America/Chicago:20260513T203000
DTSTAMP:20260420T061702
CREATED:20260325T122128Z
LAST-MODIFIED:20260413T175206Z
UID:10320-1778693400-1778704200@www.greatergbc.org
SUMMARY:CYP Week: Connections with a Cause
DESCRIPTION:CYP WEEK\n\n\n\n\n\n\n\nConnections with a Cause\n\n\n\nJoin CYP for a community-focused giving back event that brings together young professionals and local nonprofits for an evening of service\, networking\, and impact. During the event\, participating organizations provide hands-on projects that attendees complete on-site\, directly supporting meaningful initiatives in the Greater Green Bay community. \n\n\n\nParticipating non-profits: \n\n\n\n\nHER Alliance\n\n\n\nThe Salvation Army of Greater Green Bay\n\n\n\nGolden House\n\n\n\nSpecial Olympics\n\n\n\nCounting Stars\n\n\n\n\n\n\n\n\nevent details\n\n\n\n\n\nRegister Here\n\n\n\n\n\nlocation\n\n\n\nParadise North Distillery – The View at South Bay – 101 Bay Beach Rd. Suite 5\, Green Bay WI 54302 \n\n\n\n\n\n\n\n\n\nWhat to Expect\n\n\n\n\nConnections with a Cause brings together Chamber Young Professionals and our peers to give back to our community in a collective\, innovative\, and inspiring environment.\n\n\n\nCYP presents area nonprofits that are working diligently to make Greater Green Bay a better community for all.\n\n\n\nOrganizations bring projects for attendees to complete during the evening and an opportunity to learn more about each nonprofit.\n\n\n\nEnjoy networking with other young professionals & local area non-profits.\n\n\n\nRefreshments will be provided.\n\n\n\nCash bar will be available\n\n\n\n\n\n\nagenda\n\n\n\n5:30 p.m. | Arrival \n\n\n\n5:45 p.m. | Welcome \n\n\n\n5:50 p.m. | Project completion \n\n\n\n7:00 p.m. | Non-profit presentations \n\n\n\n8:00 p.m. | Event concludes \n\n\n\n\n\n\n\nThank you to the CYP Community Committee for coordinating this event and thank you to Paradise North Distillery – The View at South Bay for hosting us! Special shoutout to our partnering non-profits! \n\n\n\n\n\n\n\nThank you to our Sponsors\n\n\n\n\n\n\n\nPresenting Sponsor\n\n\n\n\n\n\n\n\n\n\n\nSupporting Sponsor\n\n\n\n\n\n\n\n\n\n\n\nQuestions?Contact Young Professionals Manager\, Ashlee Vyskocil.
URL:https://www.greatergbc.org/event/cyp-week-connections-with-a-cause/
CATEGORIES:Talent & Education Events
END:VEVENT
END:VCALENDAR