BEGIN:VCALENDAR
VERSION:2.0
PRODID:-//Greater Green Bay Chamber - ECPv6.15.20//NONSGML v1.0//EN
CALSCALE:GREGORIAN
METHOD:PUBLISH
X-ORIGINAL-URL:https://www.greatergbc.org
X-WR-CALDESC:Events for Greater Green Bay Chamber
REFRESH-INTERVAL;VALUE=DURATION:PT1H
X-Robots-Tag:noindex
X-PUBLISHED-TTL:PT1H
BEGIN:VTIMEZONE
TZID:America/Chicago
BEGIN:DAYLIGHT
TZOFFSETFROM:-0600
TZOFFSETTO:-0500
TZNAME:CDT
DTSTART:20250309T080000
END:DAYLIGHT
BEGIN:STANDARD
TZOFFSETFROM:-0500
TZOFFSETTO:-0600
TZNAME:CST
DTSTART:20251102T070000
END:STANDARD
BEGIN:DAYLIGHT
TZOFFSETFROM:-0600
TZOFFSETTO:-0500
TZNAME:CDT
DTSTART:20260308T080000
END:DAYLIGHT
BEGIN:STANDARD
TZOFFSETFROM:-0500
TZOFFSETTO:-0600
TZNAME:CST
DTSTART:20261101T070000
END:STANDARD
BEGIN:DAYLIGHT
TZOFFSETFROM:-0600
TZOFFSETTO:-0500
TZNAME:CDT
DTSTART:20270314T080000
END:DAYLIGHT
BEGIN:STANDARD
TZOFFSETFROM:-0500
TZOFFSETTO:-0600
TZNAME:CST
DTSTART:20271107T070000
END:STANDARD
END:VTIMEZONE
BEGIN:VEVENT
DTSTART;TZID=America/Chicago:20260514T084500
DTEND;TZID=America/Chicago:20260514T094500
DTSTAMP:20260420T062012
CREATED:20260415T211910Z
LAST-MODIFIED:20260415T212059Z
UID:10818-1778748300-1778751900@www.greatergbc.org
SUMMARY:Ribbon Cutting: Strive Financial Group
DESCRIPTION:Come celebrate the official ribbon cutting for Strive Financial Group’s new office in Green Bay! Strive Financial Group is ready to help the community with their financial needs with over 25 years of experience in the industry! \n\n\n\n\n\n\n\nevent details\n\n\n\n\n\nParking: Street parking is available \n\n\n\n\n\nLocation\n\n\n\nStrive Financial Group – 163 N. Broadway\, Green Bay\, WI 54303 \n\n\n\n\n\n\n\n\n\nWe reserve the right to refuse registration or deny entry to any individual\, or to request that any attendee leave the event\, at our sole discretion and without prior notice. \n\n\n\n\n\nEvent Photography: Please be advised that photo or video may be taken at this event for use on the Chamber website\, social media\, and/or other promotional materials. Your attendance at this event\, gives consent to the Greater Green Bay Chamber to use your image and likeness for educational\, archival\, or promotional purposes. \n\n\n\n\n\n\n\nQuestions?Contact Membership Engagement Manager\, Annika Osell.
URL:https://www.greatergbc.org/event/ribbon-cutting-strive-financial-group/
CATEGORIES:Member Events,Ribbon Cuttings
END:VEVENT
BEGIN:VEVENT
DTSTART;TZID=America/Chicago:20260514T104500
DTEND;TZID=America/Chicago:20260514T120000
DTSTAMP:20260420T062012
CREATED:20260325T122257Z
LAST-MODIFIED:20260413T175322Z
UID:10322-1778755500-1778760000@www.greatergbc.org
SUMMARY:CYP Week Exclusive: Cherry St. (Nova) Apartment Tour
DESCRIPTION:CYP WEEK\n\n\n\n\n\n\n\nCYP Week Exclusive: Cherry St. (Nova) Apartment Tour\n\n\n\nJoin CYP for an exclusive tour of the brand-new Cherry Street (Nova) apartment complex. \n\n\n\n\n\n\n\nevent details\n\n\n\n\n\nParking & Directions: Parking available on the street or Cherry Street parking ramp. We will meet at the Stevens construction job trailer and that is where we will distribute PPE. More directions will be sent out closer to the event! \n\n\n\nThere is a limited capacity of 20 attendees. \n\n\n\nRegister Here\n\n\n\n\n\nlocation\n\n\n\nCherry Street (Nova) Apartments – 215 N. Adams St. Green Bay\, WI 54301 \n\n\n\n\n\n\n\n\n\nWhat to expect\n\n\n\nWe will be touring the new Nova apartments led by Jayme Couch\, Project Manager\, Stevens Construction. Close toed shoes are required! Hardhat\, safety glasses\, gloves and high viz will be provided. \n\n\n\n\n\nagenda\n\n\n\n10:45 a.m. – 11:00 a.m. | Arrival \n\n\n\n11:00 a.m. – 11:45 a.m. | Tour with Jayme Couch. Project Manager\, Stevens Construction \n\n\n\n11:45 a.m. – 12:00 p.m. | Return to trailer \n\n\n\n12:00 p.m. | Event concludes \n\n\n\n\n\n\n\nThank you to the CYP Leadership Committee for coordinating this event! Thank you to Stevens Construction for partnering with us! \n\n\n\n\n\n\n\nThank you to OUr Sponsors\n\n\n\n\n\n\n\nPresenting Sponsor\n\n\n\n\n\n\n\n\n\n\n\nSupporting Sponsor\n\n\n\n\n\n\n\n\n\n\n\nQuestions?Contact Young Professionals Manager\, Ashlee Vyskocil.
URL:https://www.greatergbc.org/event/cyp-week-exclusive-cherry-st-nova-apartment-tour/
CATEGORIES:Talent & Education Events
END:VEVENT
BEGIN:VEVENT
DTSTART;TZID=America/Chicago:20260514T173000
DTEND;TZID=America/Chicago:20260514T200000
DTSTAMP:20260420T062012
CREATED:20260325T122358Z
LAST-MODIFIED:20260413T175436Z
UID:10324-1778779800-1778788800@www.greatergbc.org
SUMMARY:CYP Week: Built to Last: Designing the Foundations of a Resilient Career
DESCRIPTION:CYP WEEK\n\n\n\n\n\n\n\nBuilt to Last: Designing the Foundations of a Resilient Career\n\n\n\nBuild the kind of career people remember. Join Chamber Young Professionals at Sommerville Architecture for a high-energy evening with Aaron Popkey\, Director of Public Affairs for the Green Bay Packers\, and Amanda Miceli\, Owner of The BOLD Marketing Agency. You’ll hear what really builds long-term career momentum\, credibility\, calm under pressure\, strong presence\, and the ability to evolve\, then jump into guided networking designed to help you meet new people and leave with real connections. \n\n\n\n\n\n\n\nevent details\n\n\n\n\n\nParking & Directions: Parking available in the Sommerville Architecture parking lot. \n\n\n\nRegister Here\n\n\n\n\n\nlocation\n\n\n\nSommerville Architecture – 2120 Riverside Dr.\, Green Bay WI 54301 \n\n\n\n\n\n\n\n\n\nWHAT TO EXPECT\n\n\n\nBuilt to Last: The Real Foundations of a Resilient Career offers a rare opportunity to hear from two accomplished professionals who have built credibility in very different environments\, one within a globally recognized organization and the other as an entrepreneur building a brand from the ground up. \n\n\n\nRather than focusing on generic tips\, the session pulls back the curtain on what actually sustains long-term success: how to build trust\, navigate pressure\, develop a strong professional presence\, and adapt as your career evolves. Attendees will gain practical\, real-world insights they can apply immediately\, whether they are early in their careers or looking to grow into their next stage. \n\n\n\nWhat makes this experience especially engaging is the intentional structure of the evening. Guided networking prompts will help attendees move beyond small talk and into more meaningful\, authentic conversations\, making it easier to connect with others in a way that feels natural and valuable. \n\n\n\nThis is an event for young professionals who want more than just connections\, they want clarity\, confidence\, and tools to build a career that lasts. \n\n\n\nThere will be no food provided; however\, cash bar will be available. \n\n\n\n\n\n\n\nkey takeaways\n\n\n\n\nLearn how to build and maintain credibility in a professional setting\n\n\n\nDevelop ways to navigate pressure and challenges with confidence and resilience\n\n\n\nUnderstand what it means to develop a strong\, authentic professional presence\n\n\n\nLearn how to adapt and grow as your career evolves over time\n\n\n\nCreate more meaningful professional relationships through intentional\, guided networking\n\n\n\n\n\n\nagenda\n\n\n\n5:30 p.m. | Arrival & networking \n\n\n\n6:00 p.m. | Welcome \n\n\n\n6:05 p.m. | Speaker – Aaron Popkey\, Director of Public Affairs\, Green Bay Packers \n\n\n\n6:30 p.m. | Speaker – Amanda Miceli\, Owner\, The BOLD Marketing Agency \n\n\n\n6:50 p.m. | Questions & answers \n\n\n\n7:00 p.m. | Guided networking activity [ASK BOLD QUESTIONS] \n\n\n\n8:00 p.m. | Event concludes \n\n\n\n\n\n\n\nspeakers\n\n\n\nAaron Popkey\, Director of Public Affairs for the Green Bay Packers\, helps steward the voice and reputation of one of the most iconic brands in sports. \n\n\n\nAmanda Miceli is the founder of The BOLD Marketing Agency\, a women-built business she grew through creativity\, strategy\, and grit. Amanda will lead us through the networking activity: [ASK BOLD QUESTIONS]\, an intentional card game for community + professional gatherings\, created by The BOLD Marketing Agency.  \n\n\n\nThank you to the CYP Connects Committee for coordinating this event and thank you to Sommerville Architecture for hosting us! Special shoutout to Aaron Popkey & Amanda Miceli for partnering with us! \n\n\n\n\n\n\n\nThank you to Our Sponsors\n\n\n\n\n\n\n\nPresenting Sponsor\n\n\n\n\n\n\n\n\n\n\n\nEvent Sponsor\n\n\n\n\n\n\n\n\n\n\n\nSupporting Sponsor\n\n\n\n\n\n\n\n\n\n\n\nQuestions?Contact Young Professionals Manager\, Ashlee Vyskocil.
URL:https://www.greatergbc.org/event/cyp-week-built-to-last-designing-the-foundations-of-a-resilient-career/
CATEGORIES:Talent & Education Events
END:VEVENT
END:VCALENDAR