BEGIN:VCALENDAR
VERSION:2.0
PRODID:-//Greater Green Bay Chamber - ECPv6.15.20//NONSGML v1.0//EN
CALSCALE:GREGORIAN
METHOD:PUBLISH
X-ORIGINAL-URL:https://www.greatergbc.org
X-WR-CALDESC:Events for Greater Green Bay Chamber
REFRESH-INTERVAL;VALUE=DURATION:PT1H
X-Robots-Tag:noindex
X-PUBLISHED-TTL:PT1H
BEGIN:VTIMEZONE
TZID:America/Chicago
BEGIN:DAYLIGHT
TZOFFSETFROM:-0600
TZOFFSETTO:-0500
TZNAME:CDT
DTSTART:20250309T080000
END:DAYLIGHT
BEGIN:STANDARD
TZOFFSETFROM:-0500
TZOFFSETTO:-0600
TZNAME:CST
DTSTART:20251102T070000
END:STANDARD
BEGIN:DAYLIGHT
TZOFFSETFROM:-0600
TZOFFSETTO:-0500
TZNAME:CDT
DTSTART:20260308T080000
END:DAYLIGHT
BEGIN:STANDARD
TZOFFSETFROM:-0500
TZOFFSETTO:-0600
TZNAME:CST
DTSTART:20261101T070000
END:STANDARD
BEGIN:DAYLIGHT
TZOFFSETFROM:-0600
TZOFFSETTO:-0500
TZNAME:CDT
DTSTART:20270314T080000
END:DAYLIGHT
BEGIN:STANDARD
TZOFFSETFROM:-0500
TZOFFSETTO:-0600
TZNAME:CST
DTSTART:20271107T070000
END:STANDARD
END:VTIMEZONE
BEGIN:VEVENT
DTSTART;TZID=America/Chicago:20260515T073000
DTEND;TZID=America/Chicago:20260515T090000
DTSTAMP:20260420T061905
CREATED:20260325T122526Z
LAST-MODIFIED:20260413T175556Z
UID:10326-1778830200-1778835600@www.greatergbc.org
SUMMARY:CYP Week: Closing CYP Week\, Opening Your Future | A Leadership Finale with Momentum
DESCRIPTION:CYP WEEK\n\n\n\n\n\n\n\nEncore: Closing CYP Week\, Opening Your Future | A Leadership Finale with Momentum\n\n\n\nKick off your morning with Encore\, an energizing wrap-up to CYP Week that celebrates growth and sets the tone for the year ahead. Join Terry Wetzel of Summit Leadership Development for The Rising Leader: Moving from High Achiever to Effective Leader\, while we recognize outstanding CYP committee members with the Spirit of Young Professionals\, Rookie of the Year\, and Champion of Young Professionals awards. You’ll also get a first look at new CYP program components launching this year and enjoy time to connect with peers across industries. \n\n\n\n\n\n\n\nevent details\n\n\n\n\n\nAttire: Business casual \n\n\n\nParking Directions: Parking available in the lot. \n\n\n\nRegister Here\n\n\n\n\n\nlocation\n\n\n\nNWTC Corporate Conference Center – 2740 W. Mason St\, Green Bay WI 54303 \n\n\n\n\n\n\n\n\n\nWhat to Expect\n\n\n\n\nRecap the week with us through pictures and stories from submissions we received\n\n\n\nCelebrate the work of CYP Committee members and CYP Members advocating for young professionals in Greater Green Bay\n\n\n\nExperience a mini workshop designed to help you become a more effective leader\n\n\n\nGet a first-hand look at a new CYP program benefit launching this summer!\n\n\n\nRefreshments will be provided\, thanks to the NWTC catering team.\n\n\n\n\n\n\nAgenda\n\n\n\n7:30 a.m. | Arrival & networking \n\n\n\n7:45 a.m. | Welcome & thank you – recap of week \n\n\n\n7:50 a.m. | Spirit of CYP Awards \n\n\n\n8:15 a.m. | Leadership Workshop: The Rising Leader – Moving from High Achiever to Effective Leader – Summit Leadership Development \n\n\n\n8:45 a.m. | Announcements \n\n\n\n9:00 a.m. | Event concludes \n\n\n\n\n\n\n\nThank you to NWTC for hosting us! Thank you to Terry Wetzel & Summit Leadership Development for partnering with us and thank you to CYP Leadership team for coordinating this event! \n\n\n\n\n\n\n\nThank you to OUr Sponsors\n\n\n\n\n\n\n\nPresenting Sponsor\n\n\n\n\n\n\n\n\n\nSupporting Sponsor\n\n\n\n\n\n\n\n\n\n\n\nQuestions?Contact Young Professionals Manager\, Ashlee Vyskocil.
URL:https://www.greatergbc.org/event/cyp-encore-closing-cyp-week-opening-your-future-a-leadership-finale-with-momentum/
CATEGORIES:Talent & Education Events
END:VEVENT
END:VCALENDAR