BEGIN:VCALENDAR
VERSION:2.0
PRODID:-//Greater Green Bay Chamber - ECPv6.15.20//NONSGML v1.0//EN
CALSCALE:GREGORIAN
METHOD:PUBLISH
X-WR-CALNAME:Greater Green Bay Chamber
X-ORIGINAL-URL:https://www.greatergbc.org
X-WR-CALDESC:Events for Greater Green Bay Chamber
REFRESH-INTERVAL;VALUE=DURATION:PT1H
X-Robots-Tag:noindex
X-PUBLISHED-TTL:PT1H
BEGIN:VTIMEZONE
TZID:America/Chicago
BEGIN:DAYLIGHT
TZOFFSETFROM:-0600
TZOFFSETTO:-0500
TZNAME:CDT
DTSTART:20240310T080000
END:DAYLIGHT
BEGIN:STANDARD
TZOFFSETFROM:-0500
TZOFFSETTO:-0600
TZNAME:CST
DTSTART:20241103T070000
END:STANDARD
BEGIN:DAYLIGHT
TZOFFSETFROM:-0600
TZOFFSETTO:-0500
TZNAME:CDT
DTSTART:20250309T080000
END:DAYLIGHT
BEGIN:STANDARD
TZOFFSETFROM:-0500
TZOFFSETTO:-0600
TZNAME:CST
DTSTART:20251102T070000
END:STANDARD
BEGIN:DAYLIGHT
TZOFFSETFROM:-0600
TZOFFSETTO:-0500
TZNAME:CDT
DTSTART:20260308T080000
END:DAYLIGHT
BEGIN:STANDARD
TZOFFSETFROM:-0500
TZOFFSETTO:-0600
TZNAME:CST
DTSTART:20261101T070000
END:STANDARD
END:VTIMEZONE
BEGIN:VEVENT
DTSTART;TZID=America/Chicago:20251027T090000
DTEND;TZID=America/Chicago:20251027T103000
DTSTAMP:20260424T041910
CREATED:20250902T204032Z
LAST-MODIFIED:20251017T135435Z
UID:7843-1761555600-1761561000@www.greatergbc.org
SUMMARY:Georgia-Pacific Tour
DESCRIPTION:The month of October is all about the makers driving innovation\, creating jobs and contributing to everyday life in Greater Green Bay. Join us at Georgia-Pacific for a tour of their facility as we celebrate Manufacturing Month. \n\n\n\n\n\n\n\n\n\nevent details\n\n\n\n\n\n\nFree to guests | Registration is required\n\n\n\n20 guest capacity\n\n\n\n1.5 hour walking tour\n\n\n\nGeorgia-Pacific will provide additional safety gear\, as needed.\n\n\n\nAdditional details to come\n\n\n\n\nThe tour is at capacity and registration is closed. \n\n\n\n\n\nlocation\n\n\n\nGeorgia-Pacific – 1919 S. Broadway\, Green Bay WI 54304 \n\n\n\n\n\n\n\n\n\nWe reserve the right to refuse registration or deny entry to any individual\, or to request that any attendee leave the event\, at our sole discretion and without prior notice. \n\n\n\n\n\nEvent Photography: Please be advised that photo or video may be taken at this event for use on the Chamber website\, social media\, and/or other promotional materials. Your attendance at this event\, gives consent to the Greater Green Bay Chamber to use your image and likeness for educational\, archival\, or promotional purposes. \n\n\n\n\n\nRefund Policy: As a non-profit\, all funds received from this event directly impact and support the critical programs and operations of the Greater Green Bay Chamber. Therefore\, we do not issue refunds for cancellations. We appreciate your understanding. \n\n\n\n\n\n\n\n\n\nQuestions?Contact Assistant Vice President of Economic Development\, Eric DeKorne.
URL:https://www.greatergbc.org/event/georgia-pacific-tour/
CATEGORIES:Economic Development Events
END:VEVENT
END:VCALENDAR