BEGIN:VCALENDAR
VERSION:2.0
PRODID:-//Greater Green Bay Chamber - ECPv6.15.20//NONSGML v1.0//EN
CALSCALE:GREGORIAN
METHOD:PUBLISH
X-WR-CALNAME:Greater Green Bay Chamber
X-ORIGINAL-URL:https://www.greatergbc.org
X-WR-CALDESC:Events for Greater Green Bay Chamber
REFRESH-INTERVAL;VALUE=DURATION:PT1H
X-Robots-Tag:noindex
X-PUBLISHED-TTL:PT1H
BEGIN:VTIMEZONE
TZID:America/Chicago
BEGIN:DAYLIGHT
TZOFFSETFROM:-0600
TZOFFSETTO:-0500
TZNAME:CDT
DTSTART:20240310T080000
END:DAYLIGHT
BEGIN:STANDARD
TZOFFSETFROM:-0500
TZOFFSETTO:-0600
TZNAME:CST
DTSTART:20241103T070000
END:STANDARD
BEGIN:DAYLIGHT
TZOFFSETFROM:-0600
TZOFFSETTO:-0500
TZNAME:CDT
DTSTART:20250309T080000
END:DAYLIGHT
BEGIN:STANDARD
TZOFFSETFROM:-0500
TZOFFSETTO:-0600
TZNAME:CST
DTSTART:20251102T070000
END:STANDARD
BEGIN:DAYLIGHT
TZOFFSETFROM:-0600
TZOFFSETTO:-0500
TZNAME:CDT
DTSTART:20260308T080000
END:DAYLIGHT
BEGIN:STANDARD
TZOFFSETFROM:-0500
TZOFFSETTO:-0600
TZNAME:CST
DTSTART:20261101T070000
END:STANDARD
END:VTIMEZONE
BEGIN:VEVENT
DTSTART;TZID=America/Chicago:20251015T113000
DTEND;TZID=America/Chicago:20251015T123000
DTSTAMP:20260420T090630
CREATED:20250922T190236Z
LAST-MODIFIED:20251014T162326Z
UID:8234-1760527800-1760531400@www.greatergbc.org
SUMMARY:Opportunities to Own It
DESCRIPTION:Join CYP for an interactive midday session designed to help young professionals build confidence and sharpen their leadership instincts. Opportunities to Own It is a hands-on workshop where attendees will explore real-world workplace scenarios and practice how to take initiative in moments that matter. \n\n\n\nWhether you’re navigating team dynamics\, tackling tough conversations\, or spotting opportunities to lead\, this session will give you practical tools to own your moment and stand out. \n\n\n\n\n\n\n\nevent details\n\n\n\n\n\nPlease bring your own lunch! \n\n\n\nKey Takeaways: \n\n\n\n\nConfidence in Taking Initiative | Participants leave with practical strategies for stepping up in everyday workplace situations\, even when they’re not “in charge.”\n\n\n\nTools for Turning Challenges into Action | Participants practice shifting their mindset from “that’s a problem” to “this is my change to contribute”\, building skills they can use right away.\n\n\n\nStronger Leadership Presence | Through quick\, hands-on scenarios\, participants see how small acts of ownership shape team culture\, communication and trust.\n\n\n\n\nAgenda:  \n\n\n\n\n11:30 – 11:45 a.m. | Network and Intro\n\n\n\n11:45 – 12:15 p.m. | Workshop\n\n\n\n12:15 – 12:30 p.m. | Q & A and Debrief\n\n\n\n\n\n\nlocation\n\n\n\n\n\nFrom I43 North or South: \n\n\n\nTake exit 185 to merge onto WI-54 E/WI-54 Trunk E/WI-57 N/Sturgeon Bay Rd toward Sturgeon Bay/Algoma \n\n\n\nTake the University Ave/Nicolet Dr exit toward Weidner Center/UW-Green Bay \n\n\n\nTurn right onto Nicolet Dr/University Ave (signs for Weidner Center/UW-Green Bay) \n\n\n\nContinue straight to stay on Nicolet Dr \n\n\n\nTurn right onto S Circle Drive \n\n\n\nTurn left onto Laboratory Sciences Dr \n\n\n\nThe STEM Innovation Center is on your left. Visitor Parking is on the left – Permit parking is on the right. \n\n\n\n\n\n\n\nWorkshop Facilitator – Nicole Virant\, Program Specialist for the Division of Continuing Education & Workforce Training at the University of Wisconsin – Green Bay. \n\n\n\nNicole has over fourteen years of experience in training on Microsoft 365 and other Microsoft Office applications with teaching adult learners both in the workplace and the classroom. Nicole Virant holds a Bachelors or Business Administration with an emphasis in Marketing and minor in Sociology from UW – Green Bay as well as a Masters in Business Administration in Human Resources from Globe University. She’s held numerous leadership roles both personally and professionally such as Vice President of the board of the Friends of the Brown County Library and recently completed the Advanced Women’s Leadership certificate from the Schreiber Foods Institute of Women’s Leadership at UW – Green Bay. \n\n\n\n\n\n\n\nWe reserve the right to refuse registration or deny entry to any individual\, or to request that any attendee leave the event\, at our sole discretion and without prior notice. \n\n\n\n\n\nEvent Photography: Please be advised that photo or video may be taken at this event for use on the Chamber website\, social media\, and/or other promotional materials. Your attendance at this event\, gives consent to the Greater Green Bay Chamber to use your image and likeness for educational\, archival\, or promotional purposes. \n\n\n\n\n\nRefund Policy: As a non-profit\, all funds received from this event directly impact and support the critical programs and operations of the Greater Green Bay Chamber. Therefore\, we do not issue refunds for cancellations. We appreciate your understanding. \n\n\n\n\n\n\n\n\n\nQuestions?Contact Young Professionals Manager\, Ashlee Vyskocil.
URL:https://www.greatergbc.org/event/opportunities-to-own-it/
CATEGORIES:Talent & Education Events
END:VEVENT
BEGIN:VEVENT
DTSTART;TZID=America/Chicago:20251021T110000
DTEND;TZID=America/Chicago:20251021T130000
DTSTAMP:20260420T090630
CREATED:20250808T183135Z
LAST-MODIFIED:20251017T141751Z
UID:7492-1761044400-1761051600@www.greatergbc.org
SUMMARY:Leaders Luncheon
DESCRIPTION:Hosted by Chamber Young Professionals (CYP)\, the Leaders Luncheon brings together experienced leaders and young professionals for real conversations and meaningful connections. It is a chance to share insights\, spark mentorship and talk about the future of Greater Green Bay.  \n\n\n\n\n\n\n\nevent details\n\n\n\n\n\nWhat to Expect: Speed mentoring\, catered lunch provided by Foodelicious and additional networking opportunities with attendees and leaders. \n\n\n\nRegistration has closed. \n\n\n\n\n\nlocation\n\n\n\nGreen Bay Botanical Garden – 2600 Larsen Rd\, Green Bay WI 54303 \n\n\n\n\n\n\n\n\n\n2025 Leaders\n\n\n\nKate Burgess | CEO & Founder\, Elevate97Tony Steffek | Attorney-Shareholder\, Renning\, Lewis & Lacy s.c.Dr. Chris Thompson | Superintendent\, Unified School District of De PereTerry Wetzel | Founder\, Summit Leadership DevelopmentLisa Bos\, PHR\, SHRM-CP | Human Resources Director\, SchneiderLiz Wollenberg | Chief Systems & Strategy Officer\, Feeding America Eastern WisconsinAlyssa Proffitt | District 7 Alder\, City of Green Bay & Enterprise Manager\, Advocate HealthBryan Hollenbach | Retired Executive Vice President\, Green Bay PackagingDavid Martin | H.J. Martin and Son\, Inc.Dr. Mark Bake\, DBA\, RTR\, CT | Chief Academic Officer\, Bellin College\n\n\n\n\n\n\n\n\n\nWe reserve the right to refuse registration or deny entry to any individual\, or to request that any attendee leave the event\, at our sole discretion and without prior notice. \n\n\n\n\n\nEvent Photography: Please be advised that photo or video may be taken at this event for use on the Chamber website\, social media\, and/or other promotional materials. Your attendance at this event\, gives consent to the Greater Green Bay Chamber to use your image and likeness for educational\, archival\, or promotional purposes. \n\n\n\n\n\nRefund Policy: As a non-profit\, all funds received from this event directly impact and support the critical programs and operations of the Greater Green Bay Chamber. Therefore\, we do not issue refunds for cancellations. We appreciate your understanding. \n\n\n\n\n\n\n\n\n\nThank you to our 2025 sponsors\n\n\n\n\n\nSustaining Sponsors\n\n\n\n\n\n\n\n\n\n\n\n\n\n\n\n\n\n\n\n\n\n\n\n\n\n\n\n\n\n\n\n\n\n\n\n\n\n\n\n\n\n\n\n\n\nSupporting Sponsors\n\n\n\n\n\n\n\n\n\n\n\n\n\n\n\n\n\n\n\n\n\n\n\n\n\nSpeaker Sponsors\n\n\n\n\n\nelevate97\n\n\n\n\n\nSummit Leadership Development\n\n\n\n\n\n\n\n\n\n\n\n\n\n\n\n\n\nQuestions?Contact Young Professionals Manager\, Ashlee Vyskocil.
URL:https://www.greatergbc.org/event/leaders-luncheon/
CATEGORIES:Talent & Education Events
END:VEVENT
BEGIN:VEVENT
DTSTART;TZID=America/Chicago:20251022T080000
DTEND;TZID=America/Chicago:20251022T093000
DTSTAMP:20260420T090630
CREATED:20250923T211714Z
LAST-MODIFIED:20251017T142030Z
UID:8269-1761120000-1761125400@www.greatergbc.org
SUMMARY:Morning Connections at Voyageurs
DESCRIPTION:Join us for Morning Connections at Voyageurs\, a CYP Connects event designed to shake up your work week and spark meaningful connections with fellow young professionals in Green Bay! Taking place at the cozy Voyageurs Bakery\, this event offers a relaxed morning of networking over coffee\, tea\, and pastries. \n\n\n\nWe’ll provide a low-key\, enjoyable setting where attendees can meet new people\, expand their professional circle\, and start the day energized. A light activity will be offered to encourage conversation\, but participation is entirely optional. \n\n\n\n\n\n\n\nevent details\n\n\n\n\n\nCoffee\, tea and pastries will be available for purchase. \n\n\n\nRegister Here\n\n\n\n\n\n\n\nlocation\n\n\n\nVoyageurs Bakehouse – 320 N. Broadway #110\, Green Bay\, WI 54303 \n\n\n\n\n\n\n\n\n\nWe reserve the right to refuse registration or deny entry to any individual\, or to request that any attendee leave the event\, at our sole discretion and without prior notice. \n\n\n\n\n\nEvent Photography: Please be advised that photo or video may be taken at this event for use on the Chamber website\, social media\, and/or other promotional materials. Your attendance at this event\, gives consent to the Greater Green Bay Chamber to use your image and likeness for educational\, archival\, or promotional purposes. \n\n\n\n\n\nRefund Policy: As a non-profit\, all funds received from this event directly impact and support the critical programs and operations of the Greater Green Bay Chamber. Therefore\, we do not issue refunds for cancellations. We appreciate your understanding. \n\n\n\n\n\n\n\n\n\nQuestions?Contact Young Professionals Manager\, Ashlee Vyskocil.
URL:https://www.greatergbc.org/event/morning-connections-at-voyageurs/
CATEGORIES:Talent & Education Events
END:VEVENT
END:VCALENDAR