BEGIN:VCALENDAR
VERSION:2.0
PRODID:-//Greater Green Bay Chamber - ECPv6.15.20//NONSGML v1.0//EN
CALSCALE:GREGORIAN
METHOD:PUBLISH
X-WR-CALNAME:Greater Green Bay Chamber
X-ORIGINAL-URL:https://www.greatergbc.org
X-WR-CALDESC:Events for Greater Green Bay Chamber
REFRESH-INTERVAL;VALUE=DURATION:PT1H
X-Robots-Tag:noindex
X-PUBLISHED-TTL:PT1H
BEGIN:VTIMEZONE
TZID:America/Chicago
BEGIN:DAYLIGHT
TZOFFSETFROM:-0600
TZOFFSETTO:-0500
TZNAME:CDT
DTSTART:20240310T080000
END:DAYLIGHT
BEGIN:STANDARD
TZOFFSETFROM:-0500
TZOFFSETTO:-0600
TZNAME:CST
DTSTART:20241103T070000
END:STANDARD
BEGIN:DAYLIGHT
TZOFFSETFROM:-0600
TZOFFSETTO:-0500
TZNAME:CDT
DTSTART:20250309T080000
END:DAYLIGHT
BEGIN:STANDARD
TZOFFSETFROM:-0500
TZOFFSETTO:-0600
TZNAME:CST
DTSTART:20251102T070000
END:STANDARD
BEGIN:DAYLIGHT
TZOFFSETFROM:-0600
TZOFFSETTO:-0500
TZNAME:CDT
DTSTART:20260308T080000
END:DAYLIGHT
BEGIN:STANDARD
TZOFFSETFROM:-0500
TZOFFSETTO:-0600
TZNAME:CST
DTSTART:20261101T070000
END:STANDARD
END:VTIMEZONE
BEGIN:VEVENT
DTSTART;TZID=America/Chicago:20251106T163000
DTEND;TZID=America/Chicago:20251106T180000
DTSTAMP:20260420T090628
CREATED:20251015T151216Z
LAST-MODIFIED:20251029T121652Z
UID:8537-1762446600-1762452000@www.greatergbc.org
SUMMARY:Unwind & Recharge at Packers Athletic Club
DESCRIPTION:Unwind and recharge with CYP at Packers Athletic Club with insights on building healthy\, lasting habits. Learn how to balance fitness\, nutrition\, recovery\, and mental well-being. Then enjoy a club tour!  \n\n\n\nConsider donating non-perishable items to support local families! ​​​​​​​We will be collecting donations for food pantries in Greater Green Bay leading up to S.O.U.P. (Support of Urban Projects) on December 2nd. \n\n\n\n\n\n\n\nEvent Details\n\n\n\n\n\nWhat to Expect: \n\n\n\n\nExclusive tour of Packers Athletic Club\n\n\n\nPresentation on healthy living and fitness by Packers Athletic Club managers\, Jason Whitens and Ryan Oswald\n\n\n\n4th & Strong Cafe will be open for purchases!\n\n\n\n\nParking: Available in the Titletown lot \n\n\n\nThere is a maximum number of attendees. If you are unable to attend\, please let Ashlee Vyskocil know so she can open up a spot for someone else! \n\n\n\nRegister Here\n\n\n\n\n\n\n\nlocation\n\n\n\nPackers Athletic Club – 1155 Lombardi Ave\, Green Bay\, WI 54304 \n\n\n\n\n\n\n\n\n\nkey takeaways\n\n\n\n\nBuild lasting habits around sleep\, diet and exercise.\n\n\n\nFuel and recover smarter with practical nutrition tips.\n\n\n\nFind balance between wellness and a busy lifestyle.\n\n\n\n\n\n\nagenda\n\n\n\n4:30 p.m. – 4:45 p.m. | Arrival and network \n\n\n\n4:45 p.m. – 5:15 p.m. | Speakers \n\n\n\n5:15 p.m. – 5:30 p.m. | Q&A Session \n\n\n\n5:30 p.m. – 6:00 p.m. | Tour & event concludes \n\n\n\n\n\n\n\nThank you to our event partner\, Packers Athletic Club! Thank you to our Develops committee for coordinating this event. \n\n\n\n\n\n\n\nWe reserve the right to refuse registration or deny entry to any individual\, or to request that any attendee leave the event\, at our sole discretion and without prior notice. \n\n\n\n\n\nEvent Photography: Please be advised that photo or video may be taken at this event for use on the Chamber website\, social media\, and/or other promotional materials. Your attendance at this event\, gives consent to the Greater Green Bay Chamber to use your image and likeness for educational\, archival\, or promotional purposes. \n\n\n\n\n\nRefund Policy: As a non-profit\, all funds received from this event directly impact and support the critical programs and operations of the Greater Green Bay Chamber. Therefore\, we do not issue refunds for cancellations. We appreciate your understanding. \n\n\n\n\n\n\n\n\n\nQuestions?Contact Young Professionals Manager\, Ashlee Vyskocil.
URL:https://www.greatergbc.org/event/unwind-recharge-at-packers-athletic-club/
CATEGORIES:Talent & Education Events
END:VEVENT
END:VCALENDAR