BEGIN:VCALENDAR
VERSION:2.0
PRODID:-//Greater Green Bay Chamber - ECPv6.15.20//NONSGML v1.0//EN
CALSCALE:GREGORIAN
METHOD:PUBLISH
X-WR-CALNAME:Greater Green Bay Chamber
X-ORIGINAL-URL:https://www.greatergbc.org
X-WR-CALDESC:Events for Greater Green Bay Chamber
REFRESH-INTERVAL;VALUE=DURATION:PT1H
X-Robots-Tag:noindex
X-PUBLISHED-TTL:PT1H
BEGIN:VTIMEZONE
TZID:America/Chicago
BEGIN:DAYLIGHT
TZOFFSETFROM:-0600
TZOFFSETTO:-0500
TZNAME:CDT
DTSTART:20240310T080000
END:DAYLIGHT
BEGIN:STANDARD
TZOFFSETFROM:-0500
TZOFFSETTO:-0600
TZNAME:CST
DTSTART:20241103T070000
END:STANDARD
BEGIN:DAYLIGHT
TZOFFSETFROM:-0600
TZOFFSETTO:-0500
TZNAME:CDT
DTSTART:20250309T080000
END:DAYLIGHT
BEGIN:STANDARD
TZOFFSETFROM:-0500
TZOFFSETTO:-0600
TZNAME:CST
DTSTART:20251102T070000
END:STANDARD
BEGIN:DAYLIGHT
TZOFFSETFROM:-0600
TZOFFSETTO:-0500
TZNAME:CDT
DTSTART:20260308T080000
END:DAYLIGHT
BEGIN:STANDARD
TZOFFSETFROM:-0500
TZOFFSETTO:-0600
TZNAME:CST
DTSTART:20261101T070000
END:STANDARD
END:VTIMEZONE
BEGIN:VEVENT
DTSTART;TZID=America/Chicago:20251113T173000
DTEND;TZID=America/Chicago:20251113T190000
DTSTAMP:20260420T090625
CREATED:20251015T155005Z
LAST-MODIFIED:20251029T121732Z
UID:8540-1763055000-1763060400@www.greatergbc.org
SUMMARY:CYP Engages in the Electoral Process
DESCRIPTION:Join CYP to learn more about the electoral process! You’ll hear from election officials\, including the City Clerk’s office of the City of Green Bay\, and others with experience in poll working and ballot counting. Participants can ask questions about how elections work\, from the preparation of polling locations\, to the actual day of voting\, and counting after it concludes. \n\n\n\nYou’ll also find information about how you can become a poll worker\, which is a paid opportunity in many of our local communities. \n\n\n\nConsider donating non-perishable items to support local families! ​​​​​​​We will be collecting donations for food pantries in Greater Green Bay leading up to S.O.U.P. (Support of Urban Projects) on December 2nd. \n\n\n\n\n\n\n\nEvent Details\n\n\n\n\n\nLight appetizers will be served. \n\n\n\nRegister Here\n\n\n\n\n\n\n\nlocation\n\n\n\nBrown County United Way: City East Center – 111 N. Roosevelt St\, Green Bay\, WI 54301 \n\n\n\n\n\n\n\n\n\nKey takeaways\n\n\n\n\nLearn how elections operation behind the scenes at local municipalities\, including at the polls and in central count.\n\n\n\nLearn how to become a poll worker at the local municipalities in our area.\n\n\n\nBetter appreciate the electoral process and dispel common election misconceptions.\n\n\n\n\n\n\nAgenda\n\n\n\n5:30 p.m. – 6:00 p.m. | Icebreaker\, networking\, appetizers \n\n\n\n6:00 p.m. – 6:45 p.m. | Panel and discussion \n\n\n\n6:45 p.m. – 7:00 p.m. | Networking \n\n\n\n\n\n\n\n\n\n\n\n\n\nThank you to Brown County United Way for hosting us! Thank you to Civic Engagement committee for coordinating this event. \n\n\n\n\n\n\n\nWe reserve the right to refuse registration or deny entry to any individual\, or to request that any attendee leave the event\, at our sole discretion and without prior notice. \n\n\n\n\n\nEvent Photography: Please be advised that photo or video may be taken at this event for use on the Chamber website\, social media\, and/or other promotional materials. Your attendance at this event\, gives consent to the Greater Green Bay Chamber to use your image and likeness for educational\, archival\, or promotional purposes. \n\n\n\n\n\nRefund Policy: As a non-profit\, all funds received from this event directly impact and support the critical programs and operations of the Greater Green Bay Chamber. Therefore\, we do not issue refunds for cancellations. We appreciate your understanding. \n\n\n\n\n\n\n\n\n\nQuestions?Contact Young Professionals Manager\, Ashlee Vyskocil.
URL:https://www.greatergbc.org/event/cyp-engages-in-the-electoral-process/
CATEGORIES:Talent & Education Events
END:VEVENT
END:VCALENDAR