BEGIN:VCALENDAR
VERSION:2.0
PRODID:-//Greater Green Bay Chamber - ECPv6.15.20//NONSGML v1.0//EN
CALSCALE:GREGORIAN
METHOD:PUBLISH
X-WR-CALNAME:Greater Green Bay Chamber
X-ORIGINAL-URL:https://www.greatergbc.org
X-WR-CALDESC:Events for Greater Green Bay Chamber
REFRESH-INTERVAL;VALUE=DURATION:PT1H
X-Robots-Tag:noindex
X-PUBLISHED-TTL:PT1H
BEGIN:VTIMEZONE
TZID:America/Chicago
BEGIN:DAYLIGHT
TZOFFSETFROM:-0600
TZOFFSETTO:-0500
TZNAME:CDT
DTSTART:20240310T080000
END:DAYLIGHT
BEGIN:STANDARD
TZOFFSETFROM:-0500
TZOFFSETTO:-0600
TZNAME:CST
DTSTART:20241103T070000
END:STANDARD
BEGIN:DAYLIGHT
TZOFFSETFROM:-0600
TZOFFSETTO:-0500
TZNAME:CDT
DTSTART:20250309T080000
END:DAYLIGHT
BEGIN:STANDARD
TZOFFSETFROM:-0500
TZOFFSETTO:-0600
TZNAME:CST
DTSTART:20251102T070000
END:STANDARD
BEGIN:DAYLIGHT
TZOFFSETFROM:-0600
TZOFFSETTO:-0500
TZNAME:CDT
DTSTART:20260308T080000
END:DAYLIGHT
BEGIN:STANDARD
TZOFFSETFROM:-0500
TZOFFSETTO:-0600
TZNAME:CST
DTSTART:20261101T070000
END:STANDARD
END:VTIMEZONE
BEGIN:VEVENT
DTSTART;TZID=America/Chicago:20251119T170000
DTEND;TZID=America/Chicago:20251119T203000
DTSTAMP:20260420T090626
CREATED:20251017T134316Z
LAST-MODIFIED:20251030T133323Z
UID:8561-1763571600-1763584200@www.greatergbc.org
SUMMARY:CYP Friendsgiving
DESCRIPTION:Come spend an evening with CYP at Olde 41\, one of Green Bay’s most scenic spots\, as we gather in the spirit of gratitude and connection. This Friendsgiving-inspired event is a chance to slow down\, share a meal\, and enjoy the company of others whether you’re new to the area or simply looking to reconnect. It’s a heartfelt way to welcome the season\, surrounded by good food\, good energy\, and great people. \n\n\n\nConsider donating non-perishable items to support local families! ​​​​​​​We will be collecting donations for food pantries in Greater Green Bay leading up to S.O.U.P. (Support of Urban Projects) on December 2nd. \n\n\n\n\n\n\n\nEvent Details\n\n\n\n\n\nParking & Directions: \n\n\n\n\nEntrance behind building\, near stairs with flames\n\n\n\nElevator entrance is available through the front entrance of the building\n\n\n\nPark near the left bigger building\, near the water and statues\n\n\n\nPending snow/ice – can use the wooden lit up stairs to enter\n\n\n\nOtherwise\, there is a door to the left of the outside stairs\n\n\n\n\nRegister Here\n\n\n\n\n\n\n\nLocation\n\n\n\nOlde 41 – 1966 Velp Ave\, Green Bay\, WI 54303 \n\n\n\n\n\n\n\n\n\nWhat to expect\n\n\n\n\nWe’ll gather around a comforting Thanksgiving-style meal generously provided by Biebel’s Catering & Rentals\, complete with all the classics: sliced turkey with gravy\, homemade stuffing\, mashed potatoes\, corn\, cranberry sauce\, and yes\, pumpkin and apple pie to finish it off.\n\n\n\nA cash bar will be available for those who’d like to raise a glass.\n\n\n\nWe’ll also take a moment to celebrate our CYP volunteers who’ve reached meaningful service milestones because gratitude starts with recognizing each other.\n\n\n\nAnd to keep the spirit light and lively\, expect some fun trivia and activities designed to spark conversation and connection.\n\n\n\n\n\n\nagenda\n\n\n\n5:00 p.m. – 5:30 p.m. | Arrival & networking \n\n\n\n5:30 p.m. – 6:00 p.m. | Welcome presentation\, volunteer recognition \n\n\n\n6:00 p.m. – 7:00 p.m. | Dinner & networking \n\n\n\n7:00 p.m. – 8:00 p.m. | Trivia\, activities \n\n\n\n8:00 p.m. – 8:30 p.m. | Networking & goodbyes \n\n\n\n\n\n\n\nThank you to the Connects Committee for coordinating this event. \n\n\n\n\n\n\n\nWe reserve the right to refuse registration or deny entry to any individual\, or to request that any attendee leave the event\, at our sole discretion and without prior notice. \n\n\n\n\n\nEvent Photography: Please be advised that photo or video may be taken at this event for use on the Chamber website\, social media\, and/or other promotional materials. Your attendance at this event\, gives consent to the Greater Green Bay Chamber to use your image and likeness for educational\, archival\, or promotional purposes. \n\n\n\n\n\nRefund Policy: As a non-profit\, all funds received from this event directly impact and support the critical programs and operations of the Greater Green Bay Chamber. Therefore\, we do not issue refunds for cancellations. We appreciate your understanding. \n\n\n\n\n\n\n\n\n\nThank you to our sponsors\n\n\n\n\n\nEvent\n\n\n\n\n\n\n\n\n\n\n\n\n\n\n\n\n\n\n\n\n\n\n\nFood | Space\n\n\n\n\n\n\n\n\n\n\n\n\n\n\n\n\n\n\n\n\n\n\n\n\n\n\n\n\n\n\n\nQuestions?Contact Young Professionals Manager\, Ashlee Vyskocil.
URL:https://www.greatergbc.org/event/cyp-friendsgiving/
CATEGORIES:Talent & Education Events
END:VEVENT
END:VCALENDAR