BEGIN:VCALENDAR
VERSION:2.0
PRODID:-//Greater Green Bay Chamber - ECPv6.15.20//NONSGML v1.0//EN
CALSCALE:GREGORIAN
METHOD:PUBLISH
X-WR-CALNAME:Greater Green Bay Chamber
X-ORIGINAL-URL:https://www.greatergbc.org
X-WR-CALDESC:Events for Greater Green Bay Chamber
REFRESH-INTERVAL;VALUE=DURATION:PT1H
X-Robots-Tag:noindex
X-PUBLISHED-TTL:PT1H
BEGIN:VTIMEZONE
TZID:America/Chicago
BEGIN:DAYLIGHT
TZOFFSETFROM:-0600
TZOFFSETTO:-0500
TZNAME:CDT
DTSTART:20240310T080000
END:DAYLIGHT
BEGIN:STANDARD
TZOFFSETFROM:-0500
TZOFFSETTO:-0600
TZNAME:CST
DTSTART:20241103T070000
END:STANDARD
BEGIN:DAYLIGHT
TZOFFSETFROM:-0600
TZOFFSETTO:-0500
TZNAME:CDT
DTSTART:20250309T080000
END:DAYLIGHT
BEGIN:STANDARD
TZOFFSETFROM:-0500
TZOFFSETTO:-0600
TZNAME:CST
DTSTART:20251102T070000
END:STANDARD
BEGIN:DAYLIGHT
TZOFFSETFROM:-0600
TZOFFSETTO:-0500
TZNAME:CDT
DTSTART:20260308T080000
END:DAYLIGHT
BEGIN:STANDARD
TZOFFSETFROM:-0500
TZOFFSETTO:-0600
TZNAME:CST
DTSTART:20261101T070000
END:STANDARD
END:VTIMEZONE
BEGIN:VEVENT
DTSTART;TZID=America/Chicago:20251211T170000
DTEND;TZID=America/Chicago:20251211T200000
DTSTAMP:20260420T090623
CREATED:20251104T185006Z
LAST-MODIFIED:20251126T145323Z
UID:8890-1765472400-1765483200@www.greatergbc.org
SUMMARY:Merry and Bright Mixer
DESCRIPTION:Step into the spirit of the season at our Merry and Bright Mixer! Rock your festive-casual style\, bring your holiday spark\, and dive into a night of laid-back mingling. We can’t wait to celebrate with you! \n\n\n\n\n\n\n\nevent details\n\n\n\n\n\nParking Directions: Free parking in Titletown Brewing lot behind the building. Please take the elevator up to the Sky Lounge. \n\n\n\nConsider donating non-perishable items to support local families! ​​​​​​​We will still be collecting donations for food pantries in Greater Green Bay as an ongoing effort to give back to our community this season. \n\n\n\nRegister Here\n\n\n\n\n\n\n\nLocation\n\n\n\nTitletown Brewing Company Sky Lounge – 320 N. Broadway\, Green Bay WI 54303 \n\n\n\n\n\n\n\n\n\nWhat to Expect\n\n\n\n\nCash bar available in Sky Lounge\n\n\n\nPizza from Mountain Mikes graciously donated\n\n\n\nFestive music and decorations\n\n\n\nSingo\, cookie decorating (donated by Festival Foods) and prizes!\n\n\n\n\n\n\nAgenda\n\n\n\n5:00 p.m. | Arrival & Pizza \n\n\n\n5:45 p.m. | Welcome \n\n\n\n6:00 p.m. – 7:00 p.m. | Singo & Cookie Decorating Activities \n\n\n\n7:00 p.m. – 8:00 p.m. | Casual Networking \n\n\n\n8:00 p.m. | Event Concludes \n\n\n\n\n\n\n\nThank you to our Connects Committee for coordinating this event. Thank you to Titletown Brewing Company for hosting us. Thank you to Mountain Mike’s and Festival foods for your generous donations. \n\n\n\n\n\n\n\nWe reserve the right to refuse registration or deny entry to any individual\, or to request that any attendee leave the event\, at our sole discretion and without prior notice. \n\n\n\n\n\nEvent Photography: Please be advised that photo or video may be taken at this event for use on the Chamber website\, social media\, and/or other promotional materials. Your attendance at this event\, gives consent to the Greater Green Bay Chamber to use your image and likeness for educational\, archival\, or promotional purposes. \n\n\n\n\n\nRefund Policy: As a non-profit\, all funds received from this event directly impact and support the critical programs and operations of the Greater Green Bay Chamber. Therefore\, we do not issue refunds for cancellations. We appreciate your understanding. \n\n\n\n\n\n\n\n\n\nQuestions?Contact Young Professionals Manager\, Ashlee Vyskocil.
URL:https://www.greatergbc.org/event/merry-and-bright-mixer/
CATEGORIES:Talent & Education Events
END:VEVENT
END:VCALENDAR