BEGIN:VCALENDAR
VERSION:2.0
PRODID:-//Greater Green Bay Chamber - ECPv6.15.20//NONSGML v1.0//EN
CALSCALE:GREGORIAN
METHOD:PUBLISH
X-WR-CALNAME:Greater Green Bay Chamber
X-ORIGINAL-URL:https://www.greatergbc.org
X-WR-CALDESC:Events for Greater Green Bay Chamber
REFRESH-INTERVAL;VALUE=DURATION:PT1H
X-Robots-Tag:noindex
X-PUBLISHED-TTL:PT1H
BEGIN:VTIMEZONE
TZID:America/Chicago
BEGIN:DAYLIGHT
TZOFFSETFROM:-0600
TZOFFSETTO:-0500
TZNAME:CDT
DTSTART:20250309T080000
END:DAYLIGHT
BEGIN:STANDARD
TZOFFSETFROM:-0500
TZOFFSETTO:-0600
TZNAME:CST
DTSTART:20251102T070000
END:STANDARD
BEGIN:DAYLIGHT
TZOFFSETFROM:-0600
TZOFFSETTO:-0500
TZNAME:CDT
DTSTART:20260308T080000
END:DAYLIGHT
BEGIN:STANDARD
TZOFFSETFROM:-0500
TZOFFSETTO:-0600
TZNAME:CST
DTSTART:20261101T070000
END:STANDARD
BEGIN:DAYLIGHT
TZOFFSETFROM:-0600
TZOFFSETTO:-0500
TZNAME:CDT
DTSTART:20270314T080000
END:DAYLIGHT
BEGIN:STANDARD
TZOFFSETFROM:-0500
TZOFFSETTO:-0600
TZNAME:CST
DTSTART:20271107T070000
END:STANDARD
END:VTIMEZONE
BEGIN:VEVENT
DTSTART;TZID=America/Chicago:20260413T170000
DTEND;TZID=America/Chicago:20260413T190000
DTSTAMP:20260420T050726
CREATED:20260209T150821Z
LAST-MODIFIED:20260401T181021Z
UID:9885-1776099600-1776106800@www.greatergbc.org
SUMMARY:CYP: Pawsitive Impact at the Humane Society
DESCRIPTION:Pawsitive Impact at the Humane Society\n\n\n\nJoin us at the Wisconsin Humane Society – Green Bay Campus for a time of community service\, connections\, and playing with some amazing animals! \n\n\n\nDuring this event\, tours of the shelter will be available and we will complete some fun enrichment activities for our furry friends in the shelter. You will also learn how we make a difference for animals and the people who love them in Northeast Wisconsin\, and how you can too! \n\n\n\nInterested in bringing donations? Click here to view their wish list. \n\n\n\n\n\n\n\nevent details\n\n\n\n\n\nRegister Here\n\n\n\n \n\n\n\nDress code: casual attire and closed-toed shoes recommended \n\n\n\n\n\nLocation\n\n\n\nWisconsin Humane Society – Green Bay Campus: 1830 Radisson St.\, Green Bay\, WI 54302 \n\n\n\n\n\n\n\n\n\nWhat to Expect\n\n\n\n\nTour the Humane Society and meet some of the animals\n\n\n\nLearn about the Humane Society and how you can get involved\n\n\n\nHelp create enrichment activities for the animals\n\n\n\nLight snacks will be available\n\n\n\n\n\n\nAgenda\n\n\n\n5:00 p.m. | Arrival and networking \n\n\n\n5:30 p.m. | WI Humane Society overview & start service projects \n\n\n\n6:00 p.m. | Begin group tours \n\n\n\n7:00 p.m. | Event concludes \n\n\n\n\n\n\n\nThank you to the CYP Community Partnerships committee for coordinating this event and thank you to the Wisconsin Humane Society – Green Bay Campus for collaborating with us! \n\n\n\n\n\n\n\nWe reserve the right to refuse registration or deny entry to any individual\, or to request that any attendee leave the event\, at our sole discretion and without prior notice. \n\n\n\n\n\nEvent Photography: Please be advised that photo or video may be taken at this event for use on the Chamber website\, social media\, and/or other promotional materials. Your attendance at this event\, gives consent to the Greater Green Bay Chamber to use your image and likeness for educational\, archival\, or promotional purposes. \n\n\n\n\n\nRefund Policy: As a non-profit\, all funds received from this event directly impact and support the critical programs and operations of the Greater Green Bay Chamber. Therefore\, we do not issue refunds for cancellations. We appreciate your understanding. \n\n\n\n\n\n\n\n\n\nQuestions?Contact Young Professionals Manager\, Ashlee Vyskocil.
URL:https://www.greatergbc.org/event/cyp-pawsitive-impact-at-the-humane-society/
CATEGORIES:Talent & Education Events
END:VEVENT
END:VCALENDAR