BEGIN:VCALENDAR
VERSION:2.0
PRODID:-//Greater Green Bay Chamber - ECPv6.15.20//NONSGML v1.0//EN
CALSCALE:GREGORIAN
METHOD:PUBLISH
X-WR-CALNAME:Greater Green Bay Chamber
X-ORIGINAL-URL:https://www.greatergbc.org
X-WR-CALDESC:Events for Greater Green Bay Chamber
REFRESH-INTERVAL;VALUE=DURATION:PT1H
X-Robots-Tag:noindex
X-PUBLISHED-TTL:PT1H
BEGIN:VTIMEZONE
TZID:America/Chicago
BEGIN:DAYLIGHT
TZOFFSETFROM:-0600
TZOFFSETTO:-0500
TZNAME:CDT
DTSTART:20250309T080000
END:DAYLIGHT
BEGIN:STANDARD
TZOFFSETFROM:-0500
TZOFFSETTO:-0600
TZNAME:CST
DTSTART:20251102T070000
END:STANDARD
BEGIN:DAYLIGHT
TZOFFSETFROM:-0600
TZOFFSETTO:-0500
TZNAME:CDT
DTSTART:20260308T080000
END:DAYLIGHT
BEGIN:STANDARD
TZOFFSETFROM:-0500
TZOFFSETTO:-0600
TZNAME:CST
DTSTART:20261101T070000
END:STANDARD
BEGIN:DAYLIGHT
TZOFFSETFROM:-0600
TZOFFSETTO:-0500
TZNAME:CDT
DTSTART:20270314T080000
END:DAYLIGHT
BEGIN:STANDARD
TZOFFSETFROM:-0500
TZOFFSETTO:-0600
TZNAME:CST
DTSTART:20271107T070000
END:STANDARD
END:VTIMEZONE
BEGIN:VEVENT
DTSTART;TZID=America/Chicago:20260512T110000
DTEND;TZID=America/Chicago:20260512T130000
DTSTAMP:20260420T062019
CREATED:20260325T121927Z
LAST-MODIFIED:20260413T175028Z
UID:10317-1778583600-1778590800@www.greatergbc.org
SUMMARY:CYP Week: Inside Carbliss with Co-Founders Adam & Amanda Kroener
DESCRIPTION:CYP WEEK\n\n\n\n\n\n\n\nInside Carbliss with Co-Founders Adam & Amanda Kroener\n\n\n\nJoin CYP and Adam & Amanda Kroener as they share their story of entrepreneurship\, resilience\, and teamwork\, offering lessons on building a brand\, creating culture\, and chasing big dreams while never losing sight of family and community. \n\n\n\nAbout Adam & Amanda Kroener \n\n\n\n\n\n\n\nAdam & Amanda Kroener are the husband and wife cofounders of Carbliss the Premium Ready to Drink Cocktail company. What began as a kitchen experiment to create a cocktail that fit their keto lifestyle has grown into a national beverage company\, recognized on the Inc. 5000 as the #1 Food & Beverage brand and one of the Top 10 fastest-growing private companies in America. \n\n\n\nAdam\, a U.S. Army veteran and former operations leader\, brings his background in manufacturing\, leadership\, and innovation to the business. Amanda\, a finance expert and former CFO\, helped drive the company’s financial strategy while balancing life as a mom of their three girls. Together\, they’ve built Carbliss from scratch\, bootstrapping\, scaling\, and inspiring a culture that puts people first. \n\n\n\n\n\n\n\nevent details\n\n\n\n\n\nParking & Directions: Parking available in the Ashwaubenon Bowling Alley parking lot. \n\n\n\nRegister Here\n\n\n\n\n\nlocation\n\n\n\nAshwaubenon Bowling Alley – 2929 Allied St. Green Bay\, WI 54304 \n\n\n\n\n\n\n\n\n\nWhat to Expect\n\n\n\n\nHear the Carbliss story from Adam & Amanda Kroener\n\n\n\nNetwork with young professionals across varies industries\n\n\n\nLunch will be provided & drinks will be available for purchase.\n\n\n\nQ&A session & free giveaways!\n\n\n\n\n\n\nagenda\n\n\n\n11:00 a.m. | Arrival \n\n\n\n11:15 a.m. | Lunch \n\n\n\n11:45 a.m. | Presentation  \n\n\n\n12:30 p.m. | Q&A session \n\n\n\n1:00 p.m. | Event concludes \n\n\n\n\n\n\n\nThank you to the CYP Develops Committee for coordinating this event and thank you to the Ashwaubenon Bowling Alley for hosting us! Special shoutout to Adam & Amanda Kroener for partnering with us! \n\n\n\n\n\n\n\nThank you to Sponsors\n\n\n\n\n\n\n\nPresenting Sponsor\n\n\n\n\n\n\n\n\n\n\n\nSupporting Sponsor\n\n\n\n\n\n\n\n\n\n\n\nEvent Sponsor\n\n\n\n\n\n\n\n\n\n\n\nQuestions?Contact Young Professionals Manager\, Ashlee Vyskocil.
URL:https://www.greatergbc.org/event/cyp-week-inside-carbliss-with-co-founders-adam-amanda-kroener/
CATEGORIES:Talent & Education Events
END:VEVENT
BEGIN:VEVENT
DTSTART;TZID=America/Chicago:20260512T160000
DTEND;TZID=America/Chicago:20260512T190000
DTSTAMP:20260420T062019
CREATED:20260401T135933Z
LAST-MODIFIED:20260401T164036Z
UID:10472-1778601600-1778612400@www.greatergbc.org
SUMMARY:Leadership Green Bay Class of 2026 Graduation
DESCRIPTION:Join us in celebrating the 42nd Class of Leadership Green Bay! Leadership Green Bay is a program that connections a diverse group of professionals to explore key issues shaping our community and quality of life. You will hear from each group about their community projects and connect with local leaders. \n\n\n\n\n\n\n\nevent details\n\n\n\n\n\nRegister Here\n\n\n\n\n\nlocation\n\n\n\nBadger State Brewing Co. – 990 Tony Canadeo Run\, Green Bay\, WI 54304 \n\n\n\n\n\n\n\n\n\nagenda\n\n\n\n4:00 p.m. | Arrive & network \n\n\n\n4:30 p.m. | Team project presentations \n\n\n\n5:15 p.m. | Dinner \n\n\n\n5:45 p.m. | Team project presentations \n\n\n\n6:30 p.m. | Presentation of the class \n\n\n\n7:00 p.m. | Event concludes \n\n\n\nFeel free to stick around after the event for a social and celebration with our newest Leadership Green Bay alumni and other incredible community leaders! \n\n\n\n\n\n\n\n\n\nWe reserve the right to refuse registration or deny entry to any individual\, or to request that any attendee leave the event\, at our sole discretion and without prior notice. \n\n\n\n\n\nEvent Photography: Please be advised that photo or video may be taken at this event for use on the Chamber website\, social media\, and/or other promotional materials. Your attendance at this event\, gives consent to the Greater Green Bay Chamber to use your image and likeness for educational\, archival\, or promotional purposes. \n\n\n\n\n\nRefund Policy: As a non-profit\, all funds received from this event directly impact and support the critical programs and operations of the Greater Green Bay Chamber. Therefore\, we do not issue refunds for cancellations. We appreciate your understanding. \n\n\n\n\n\n\n\n\n\n\n\nQuestions?Contact Director of Talent and Education\, Nikki Schneider.
URL:https://www.greatergbc.org/event/leadership-green-bay-class-of-2026-graduation/
CATEGORIES:Talent & Education Events
END:VEVENT
END:VCALENDAR