BEGIN:VCALENDAR
VERSION:2.0
PRODID:-//Greater Green Bay Chamber - ECPv6.15.20//NONSGML v1.0//EN
CALSCALE:GREGORIAN
METHOD:PUBLISH
X-ORIGINAL-URL:https://www.greatergbc.org
X-WR-CALDESC:Events for Greater Green Bay Chamber
REFRESH-INTERVAL;VALUE=DURATION:PT1H
X-Robots-Tag:noindex
X-PUBLISHED-TTL:PT1H
BEGIN:VTIMEZONE
TZID:America/Chicago
BEGIN:DAYLIGHT
TZOFFSETFROM:-0600
TZOFFSETTO:-0500
TZNAME:CDT
DTSTART:20240310T080000
END:DAYLIGHT
BEGIN:STANDARD
TZOFFSETFROM:-0500
TZOFFSETTO:-0600
TZNAME:CST
DTSTART:20241103T070000
END:STANDARD
BEGIN:DAYLIGHT
TZOFFSETFROM:-0600
TZOFFSETTO:-0500
TZNAME:CDT
DTSTART:20250309T080000
END:DAYLIGHT
BEGIN:STANDARD
TZOFFSETFROM:-0500
TZOFFSETTO:-0600
TZNAME:CST
DTSTART:20251102T070000
END:STANDARD
BEGIN:DAYLIGHT
TZOFFSETFROM:-0600
TZOFFSETTO:-0500
TZNAME:CDT
DTSTART:20260308T080000
END:DAYLIGHT
BEGIN:STANDARD
TZOFFSETFROM:-0500
TZOFFSETTO:-0600
TZNAME:CST
DTSTART:20261101T070000
END:STANDARD
END:VTIMEZONE
BEGIN:VEVENT
DTSTART;TZID=America/Chicago:20250923T110000
DTEND;TZID=America/Chicago:20250923T130000
DTSTAMP:20260424T145638
CREATED:20250818T234142Z
LAST-MODIFIED:20250920T002337Z
UID:7613-1758625200-1758632400@www.greatergbc.org
SUMMARY:ATHENA Legacy Celebration
DESCRIPTION:Be in the Room With Women Leading Change. \n\n\n\nJoin us for an inspiring evening celebrating bold leadership\, intentional mentorship and the unstoppable women who are shaping our community. We will honor past ATHENA Leadership Award recipients and recognize the three finalists for the 2025 award who each lead with excellence\, lift others up and ignite change\, especially for women. \n\n\n\nCome for the powerful stories\, stay for the connections. You will enjoy a short\, impactful program\, meaningful conversations and high-impact networking with leaders who are making things happen. \n\n\n\nThis can’t-miss experience is part of the Greater Green Bay Chamber’s Annual Celebration on Wednesday\, September 24 at the Oneida Casino Hotel where we will name the 2025 ATHENA Leadership Award recipient. \n\n\n\nCelebrate leadership. Connect with change-makers. Be inspired. \n\n\n\n\n\n\n\nevent details\n\n\n\n\n\nAttire: Cocktail attire \n\n\n\nAgenda \n\n\n\n\n4:00 p.m. – 4:45 p.m. | Registration and Networking\n\n\n\n4:45 p.m. – 4:55 p.m. | Welcome and Opening Remarks\n\n\n\n4:55 p.m. – 5:05 p.m. | Honoring the ATHENA Legacy\n\n\n\n5:05 p.m. – 5:20 p.m. | Recognize 2025 Finalists\n\n\n\n5:20 p.m. – 5:25 p.m. | Legacy Toast and Closing\n\n\n\n5:25 p.m. – 6:00 p.m. | Networking and Event Concludes\n\n\n\n\n\n\n\n\nlocation\n\n\n\nHotel Northland \n\n\n\n\n\n\n\n\n\n\n\nWe reserve the right to refuse registration or deny entry to any individual\, or to request that any attendee leave the event\, at our sole discretion and without prior notice. \n\n\n\n\n\nEvent Photography: Please be advised that photo or video may be taken at this event for use on the Chamber website\, social media\, and/or other promotional materials. Your attendance at this event\, gives consent to the Greater Green Bay Chamber to use your image and likeness for educational\, archival\, or promotional purposes. \n\n\n\n\n\nRefund Policy: As a non-profit\, all funds received from this event directly impact and support the critical programs and operations of the Greater Green Bay Chamber. Therefore\, we do not issue refunds for cancellations. We appreciate your understanding. \n\n\n\n\n\n\n\n\n\n\n\nthank you to our sponsors\n\n\n\n\n\nLegacy\n\n\n\n\n\n\n\n\n\n\n\n\n\n\n\n\n\n\n\n\n\n\n\nEmpowerment\n\n\n\n\n\n\n\n\n\n\n\n\n\n\n\n\n\n\n\n\n\n \n\n\n\n\n\n\n\nQuestions?Contact Special Events Manager\, Kassie Linzmeier.
URL:https://www.greatergbc.org/event/athena-legacy-celebration/
CATEGORIES:Member Events,Signature Events
END:VEVENT
END:VCALENDAR