BEGIN:VCALENDAR
VERSION:2.0
PRODID:-//Greater Green Bay Chamber - ECPv6.15.20//NONSGML v1.0//EN
CALSCALE:GREGORIAN
METHOD:PUBLISH
X-ORIGINAL-URL:https://www.greatergbc.org
X-WR-CALDESC:Events for Greater Green Bay Chamber
REFRESH-INTERVAL;VALUE=DURATION:PT1H
X-Robots-Tag:noindex
X-PUBLISHED-TTL:PT1H
BEGIN:VTIMEZONE
TZID:America/Chicago
BEGIN:DAYLIGHT
TZOFFSETFROM:-0600
TZOFFSETTO:-0500
TZNAME:CDT
DTSTART:20250309T080000
END:DAYLIGHT
BEGIN:STANDARD
TZOFFSETFROM:-0500
TZOFFSETTO:-0600
TZNAME:CST
DTSTART:20251102T070000
END:STANDARD
BEGIN:DAYLIGHT
TZOFFSETFROM:-0600
TZOFFSETTO:-0500
TZNAME:CDT
DTSTART:20260308T080000
END:DAYLIGHT
BEGIN:STANDARD
TZOFFSETFROM:-0500
TZOFFSETTO:-0600
TZNAME:CST
DTSTART:20261101T070000
END:STANDARD
BEGIN:DAYLIGHT
TZOFFSETFROM:-0600
TZOFFSETTO:-0500
TZNAME:CDT
DTSTART:20270314T080000
END:DAYLIGHT
BEGIN:STANDARD
TZOFFSETFROM:-0500
TZOFFSETTO:-0600
TZNAME:CST
DTSTART:20271107T070000
END:STANDARD
BEGIN:DAYLIGHT
TZOFFSETFROM:-0600
TZOFFSETTO:-0500
TZNAME:CDT
DTSTART:20280312T080000
END:DAYLIGHT
BEGIN:STANDARD
TZOFFSETFROM:-0500
TZOFFSETTO:-0600
TZNAME:CST
DTSTART:20281105T070000
END:STANDARD
END:VTIMEZONE
BEGIN:VEVENT
DTSTART;TZID=America/Chicago:20260728T070000
DTEND;TZID=America/Chicago:20260728T200000
DTSTAMP:20260424T091103
CREATED:20240625T222454Z
LAST-MODIFIED:20260420T134554Z
UID:1949-1785222000-1785268800@www.greatergbc.org
SUMMARY:Chamber Golf Classic
DESCRIPTION:Event Details\n\n\n\n\n\nSponsorship Opportunities\n\n\n\n\n\nSponsors\n\n\n\n\n\n\n\nThis July\, come out to Thornberry Creek at Oneida for the Chamber Golf Classic\, one of the area’s largest single-day golf outings at a single course. Back for its third year\, the event features our unique dual-round format with two shotgun starts\, morning and afternoon\, so you can choose the tee time that fits your schedule. \n\n\n\nAfter the first round\, everyone is invited to our lunchtime celebration with great food\, music\, and plenty of time to connect with fellow golfers before the afternoon round goes out. It is a fun day of golf and networking you won’t want to miss! \n\n\n\n\n\n\n\nAre you interested in sponsoring or securing a foursome at our 2026 event? Please fill out the interest form and a member of the Chamber team will contact you. \n\n\n\nInterest Form\n\n\n\n\n\n\n\nEvent Details\n\n\n\n\n\nMorning round: 8 a.m. | Afternoon round: 2 p.m. \n\n\n\n\n\n\n\n7:00 a.m. | Registration (morning round) and breakfast \n\n\n\n7:45 a.m. | Golfers to carts (morning round) \n\n\n\n7:50 a.m. | Pre-golf announcements (morning round) \n\n\n\n8:00 a.m. | Shotgun start (morning round) \n\n\n\n11:30 a.m. to 2:30 p.m. | Lunch and music \n\n\n\n11:30 a.m. | Registration (afternoon round) \n\n\n\n1:45 p.m. | Golfers to carts (afternoon round) \n\n\n\n1:50 p.m. | Pre-golf announcements (afternoon round) \n\n\n\n2:00 p.m. | Shotgun start (afternoon round) \n\n\n\n6:30 p.m. | Reception and appetizers \n\n\n\n8:00 p.m. | Event concludes \n\n\n\n\n\nLocation\n\n\n\nThornberry Creek at Oneida: 4470 N. Pine Road\, Oneida\, WI 54115 \n\n\n\n\n\n\n\n\n\nWe reserve the right to refuse registration or deny entry to any individual\, or to request that any attendee leave the event\, at our sole discretion and without prior notice \n\n\n\n\n\n\n\nEvent Photography: Please be advised that photo or video may be taken at this event for use on the Chamber website\, social media\, and/or other promotional materials. Your attendance at this event\, gives consent to the Greater Green Bay Chamber to use your image and likeness for educational\, archival\, or promotional purposes. \n\n\n\n\n\nRefund Policy: As a non-profit\, all funds received from this event directly impact and support the critical programs and operations of the Greater Green Bay Chamber. Therefore\, we do not issue refunds for cancellations. We appreciate your understanding. \n\n\n\n\n\n\n\nThank you to our 2026 Sponsors\n\n\n\n\n\nPresenting\n\n\n\n\n\n\n\n\n\n\n\n\n\n\n\nGold\n\n\n\n\n\n\n\n\n\n\n\n\n\n\n\n\n\n\n\n\n\n\n\n\n\n\n\n\n\n\n\n\n\n\n\n\n\n\n\n\n\n\n\n\n\n\n\n\n\n\n\n\n\n\n\n\n\n\n\n\n\n\n\n\n\n\n\n\n\n\n\n\n\n\n\n\n\n\n\n\n\n\n\n\n\n\n\n\n\n\n\nSilver\n\n\n\n\n\nAssociated Bank\n\n\n\n\n\nCellcom\n\n\n\n\n\nFox Communities Credit Union\n\n\n\n\n\nOrthopedic & Sports Medicine Specialists (OSMS)\n\n\n\n\n\n\n\n\n\nBall Game | Bag Drop | Driving Range |  Hole-In-One \n\n\n\n\n\n\n\n\n\n\n\n\n\n\n\n\n\n\n\n\n\n\n\n\n\n\n\n\n\n\n\n\n\nPutting Green | Scorecard\n\n\n\n\n\n\n\n\n\n\n\n\n\n\n\n\n\n\n\n\n\n\n\n Beverage | Entertainment \n\n\n\n\n\n\n\n\n\n\n\n\n\n\n\n\n\n\n\n\n\n\n\n\n\n\n\nQuestions?Contact Special Events Manager\, Shelby Balatgek
URL:https://www.greatergbc.org/event/chamber-golf-classic/
CATEGORIES:Signature Events
END:VEVENT
BEGIN:VEVENT
DTSTART;TZID=America/Chicago:20270304T170000
DTEND;TZID=America/Chicago:20270304T203000
DTSTAMP:20260424T091103
CREATED:20240708T235607Z
LAST-MODIFIED:20260413T175804Z
UID:2323-1804179600-1804192200@www.greatergbc.org
SUMMARY:Future 15 & Young Professional Awards
DESCRIPTION:Event Details\n\n\n\n\n\nAwards & Recipients\n\n\n\n\n\nSponsors\n\n\n\n\n\n\n\nCelebrate the rising leaders shaping Greater Green Bay’s future. The Future 15 & Young Professional Awards honor young professionals making a real impact through leadership and innovation as well as workplaces where the next generation thrives.  \n\n\n\n\n\n\n\nEvent Details\n\n\n\n\n\n\n\n\n\nLocation\n\n\n\nEPIC Event Center – 2351 Holmgren Way\, Green Bay\, WI 54301 \n\n\n\n\n\n\n\n\n\nHear from a few 2026 Future 15 recipients and what leading in the community means to them! \n\n\n\n\n\n\n\n\n		 \n\n\n\n\n\n\n\n\n\n\n\n\n\nWe reserve the right to refuse registration or deny entry to any individual\, or to request that any attendee leave the event\, at our sole discretion and without prior notice \n\n\n\n\n\n\n\nEvent Photography: Please be advised that photo or video may be taken at this event for use on the Chamber website\, social media\, and/or other promotional materials. Your attendance at this event\, gives consent to the Greater Green Bay Chamber to use your image and likeness for educational\, archival\, or promotional purposes.  \n\n\n\n\n\nRefund Policy: As a non-profit\, all funds received from this event directly impact and support the critical programs and operations of the Greater Green Bay Chamber. Therefore\, we do not issue refunds for cancellations. We appreciate your understanding. \n\n\n\n\n\n\n\n\n\n\n\nFuture 15 recipients\n\n\n\nFuture 15 is presented to individuals with a demonstrated commitment to Greater Green Bay through civic and business involvement. These individuals will possess values consistent with those of Chamber Young Professionals\, including an unwavering responsibility to the community through involvement with local organizations that elevate the overall quality of life in Greater Green Bay and our ability to engage and retain young talent.  \n\n\n\nThe Greater Green Bay Chamber will no longer award a Young Professional of the Year. While we have proudly recognized many outstanding individuals with this award over the years\, this change allows all Future 15 honorees to equally receive the attention they deserve for their accomplishments. \n\n\n\n\n\n2026 Recipients\n\n\n\nJason Mathwig | New North Inc.Rachael Trimble-VandenHogen | Greater Green Bay YMCABrian Figueroa | KBX LogisticsSarah Klapper | Bay Area Workforce Development BoardDaniel Lindstrom | City of De PereAmanda Aubry | House of Hope Green BayKayleigh Mapes | University of Wisconsin-Green BayMeghan Walsh | St. Norbert CollegeMeghan Finger | Green Bay Water UtilityBryan Cayabyab | AK Pizza CrustMichelle Cheney | Wisconsin Humane SocietyKaylee Prebelski | Greater Green Bay Habitat for HumanityEmily Heling | Aging and Disability Resource Center of Brown CountyBrittany Helf | AbbyBankHarrison Thiry | Brown County United Way\n\n\n\n\n\n\n\n\n\nView Judging Process\n\n\n\n\n\nPast Award Recipients\n\n\n\n\n\n\n\n\n\n\n\nYOUNG ENTREPRENEUR OF THE YEAR\n\n\n\n\n\n\n\n\n\n\n\n\n\nThis award is presented to a local business owner who exemplifies and holds true a commitment to Greater Green Bay through their demonstrated business entrepreneurial accomplishments. Consideration includes but goes beyond financial success by evaluating the individual’s positive impact on the community as an entrepreneur.  \n\n\n\n\n\n\n\n2026 Finalists\n\n\n\n*Denotes Young Entrepreneur of the Year winner \n\n\n\nAmanda Miceli | The BOLD Marketing Agency*McKayla Dietzen | McKayla Marie Sweets\n\n\n\n\n\n\n\n\n\nNEXT GENERATION BEST PLACE TO WORK\n\n\n\n\n\nPresented by:\n\n\n\n\n\n\n\n\n\nThis award is presented to a business that demonstrates a commitment to the development of young professionals\, adapts work-life-friendly policies\, values generational differences\, and institutes attraction and retention initiatives for young talent. \n\n\n\n\n\n\n\n2026 Finalists\n\n\n\n*Denotes Next Generation Best Place to Work winner \n\n\n\nPacker Fastener & Supply Inc.*Greater Green Bay Habitat for Humanity\n\n\n\n\n\n\n\nthank you to our 2026 sponsors\n\n\n\n\n\nPresenting\n\n\n\n\n\n\n\n\n\n\n\n\n\n\n\n\n\n\n\n\n\n\n\nPlatinum\n\n\n\n\n\n\n\n\n\n\n\n\n\n\n\n\n\n\n\n\n\n\n\nGold\n\n\n\n\n\n\n\n\n\n\n\n\n\n\n\n\n\n\n\n\n\n\n\n\n\n\n\nBronze\n\n\n\n\n\n\n\n\n\nTDS Telecom\n\n\n\n\n\n\n\n\n\n\n\n\n\nDesign | Dessert | Floral | Media | Photography | Print \n\n\n\n\n\n\n\n\n\n\n\n\n\n\n\n\n\n\n\n\n\n\n\n\n\n\n\n\n\n\n\n\n\n\n\n\n\n\n\n\n\n\n\n\n\n\n\n\n\nQuestions?Contact Young Professionals Manager\, Ashlee Vyskocil.
URL:https://www.greatergbc.org/event/future-15-young-professional-awards/
CATEGORIES:Signature Events,Talent & Education Events
END:VEVENT
BEGIN:VEVENT
DTSTART;TZID=America/Chicago:20270421T170000
DTEND;TZID=America/Chicago:20270421T203000
DTSTAMP:20260424T091103
CREATED:20240709T022246Z
LAST-MODIFIED:20260423T134609Z
UID:2334-1808326800-1808339400@www.greatergbc.org
SUMMARY:Golden Apple Awards
DESCRIPTION:About the Awards\n\n\n\n\n\n2026 Recipients\n\n\n\n\n\nSponsors\n\n\n\n\n\n\n\n\n\nJoin us in recognizing the educators who inspire\, lead and innovate in Greater Green Bay classrooms. The Golden Apple Awards honor those shaping student success and our region’s future through excellence in education.  \n\n\n\n\n\n\n\nInterested in supporting the educators of distinction? Read more about them and view each of their classroom wish lists here! \n\n\n\n\n\n\n\nEvent Details\n\n\n\n\n\n \n\n\n\n\n\n\n\nLocation\n\n\n\nOneida Casino Hotel – 2040 Airport Dr\, Green Bay\, WI 54313 \n\n\n\n\n\n\n\n\n\nWhat is the Golden Apple Awards?The Greater Green Bay Chamber’s Golden Apple Awards program annually recognizes high-quality educators in Greater Green Bay in areas of professionalism\, leadership\, and innovation. We strive to improve awareness and the importance of quality education within our community. \n\n\n\n\n\nWhy the Golden Apple Awards exist?We recognize that quality education is instrumental in the success of Greater Green Bay and have created an avenue that celebrates those within the educational field who contribute exceptional work towards educational attainment. \n\n\n\n\n\nWho is eligible for a Golden Apple?Golden Apple Awards are awarded to licensed educational professionals. For example\, school counselors\, administrators\, teachers\, teams of teachers\, etc. \n\n\n\n\n\n\n\nView All Past Recipients\n\nJudging Process\n\n\n\n\n\n\n\n\n\n2026 Golden Apple Recipients\n\n\nDan Albrent | Ashwaubenon High SchoolWeston Berndt | Preble High SchoolLeah Cramer | Bay Port High SchoolAndrew Crane | Southwest High SchoolAlex Downing | Red Smith Elementary/Middle SchoolJoel Jarock | Pulaski High SchoolJen Kelm | Baird Elementary SchoolAaron Kilsdonk | Seymour High School\n\n\n\n\n\n\n\n\n2026 Educators of Distinction\n\n\n\n\n\nEmily KruegerAlgoma Elementary SchoolDan AlbrentAshwaubenon High SchoolBridget JohnsonCormier School & Early Learning CenterClaudia StewartParkview Middle SchoolWeston BerndtPreble High SchoolAndrew CraneSouthwest High SchoolTerri Lesjack-DeckerSouthwest High SchoolDan DennisLeonardo da Vinci School for Gifted LearnersAlexander DowningRed Smith Elementary/Middle SchoolLaurie GrunwaldJackson Elementary SchoolHeidi HerralaMcAuliffe Elementary SchoolJen KelmBaird Elementary SchoolShelby KollElmore Elementary SchoolAllison NittiRed Smith Elementary/Middle SchoolJennifer SlonikerDoty Elementary SchoolAndrea BaringtonHoly Family Catholic School (G.R.A.C.E.)Kelly GossenSt. Thomas More Catholic School (G.R.A.C.E.)Annie StewartFather Allouez Catholic School (G.R.A.C.E.)Sean BerendesBay View Middle SchoolLeah CramerBay Port High SchoolErica HardwickLineville Intermediate SchoolErica KentopForest Glen Elementary SchoolAdam RudarNotre Dame De La Baie AcademyElizabeth AwveSunnyside Elementary SchoolKathryn (Kathy) BrownPulaski High SchoolPaula GoebenSunnyside Elementary SchoolJoel JarockPulaski High SchoolBaylee SimonarSaint Mary’s School – LuxemburgAaron KilsdonkSeymour High SchoolMichelle KontnyDe Pere High SchoolSao YangDe Pere High SchoolKristin BlanchardWest De Pere Middle SchoolThomas Ashley & Erica StindtPhantom Knight Charter School Advisors (West De Pere School District)Jenny Mueller\, Kregg Mueller\, Mark Schmoll & Kevin Vander ZandenSeymour High School Alternative Education TeamLucy Lozar & Anthony ZornowWest De Pere Intermediate School Physical Education Team\n\n\n\n\n\n\n\nView all the nominations here. \n\n\n\n\n\n\n\n\n\n\n\nThank you to our 2026 sponsors\n\n\n\n\n\n\n\nMajor Sponsors\n\n\n\n\n\n\n\n\n\n\n\n\n\n\n\n\n\n\n\n\n\n\n\n\n\n\n\n\n\n\n\n\n\n\n\n\n\n\n\n\n\n\n\n\n\n\n\n\n\n\n\n\n\n\n\n\n\n\n\n\n\n\n\n\n\n\n\nAnnual Giving Sponsor\n\n\n\n\n\n\n\n\n\n\n\n\n\n\n\n\n\n\n\n\n\n\n\nSustaining Sponsors\n\n\n\n\n\n\n\n\n\n\n\n\n\n\n\n\n\n\n\n\n\n\n\n\n\nPlatinum Sponsor\n\n\n\n\n\n\n\n\n\n\n\n\n\n\n\n\n\n\n\n\n\n\n\n\n\n\n\n\n\n\n\n\n\n\n\n\n\n\n\n\n\n\n\nGold Sponsors\n\n\n\n\n\n\n\n\n\n\n\n\n\n\n\n\n\n\n\n\n\n\n\n\n\n\n\n\n\n\n\n\n\n\n\n\n\n\n\n\n\n\n\n\n\n\n\nSilver Sponsor\n\n\n\n\n\nCamera Corner Connecting Point\n\n\n\n\n\nIntegrity Decking Co.\n\n\n\n\n\n\n\n\n\nBronze Sponsor\n\n\n\n\n\nTDS Fiber\n\n\n\n\n\nUniversity of Wisconsin-Green Bay\n\n\n\n\n\n\n\n\n\nDesign | Dessert | Floral | Print\n\n\n\n\n\n\n\n\n\n\n\n\n\n\n\n\n\n\n\n\n\n\n\n\n\n\n\n\n\n\n\nWe reserve the right to refuse registration or deny entry to any individual\, or to request that any attendee leave the event\, at our sole discretion and without prior notice. \n\n\n\n\n\nEvent Photography: Please be advised that photo or video may be taken at this event for use on the Chamber website\, social media\, and/or other promotional materials. Your attendance at this event\, gives consent to the Greater Green Bay Chamber to use your image and likeness for educational\, archival\, or promotional purposes. \n\n\n\n\n\nRefund Policy: As a non-profit\, all funds received from this event directly impact and support the critical programs and operations of the Greater Green Bay Chamber. Therefore\, we do not issue refunds for cancellations. We appreciate your understanding. \n\n\n\n\n\n\n\nQuestions?Contact Haley Moriva\, Special Events Manager
URL:https://www.greatergbc.org/event/golden-apple-awards/
CATEGORIES:Signature Events,Talent & Education Events
END:VEVENT
END:VCALENDAR