BEGIN:VCALENDAR
VERSION:2.0
PRODID:-//Greater Green Bay Chamber - ECPv6.15.20//NONSGML v1.0//EN
CALSCALE:GREGORIAN
METHOD:PUBLISH
X-WR-CALNAME:Greater Green Bay Chamber
X-ORIGINAL-URL:https://www.greatergbc.org
X-WR-CALDESC:Events for Greater Green Bay Chamber
REFRESH-INTERVAL;VALUE=DURATION:PT1H
X-Robots-Tag:noindex
X-PUBLISHED-TTL:PT1H
BEGIN:VTIMEZONE
TZID:America/Chicago
BEGIN:DAYLIGHT
TZOFFSETFROM:-0600
TZOFFSETTO:-0500
TZNAME:CDT
DTSTART:20240310T080000
END:DAYLIGHT
BEGIN:STANDARD
TZOFFSETFROM:-0500
TZOFFSETTO:-0600
TZNAME:CST
DTSTART:20241103T070000
END:STANDARD
BEGIN:DAYLIGHT
TZOFFSETFROM:-0600
TZOFFSETTO:-0500
TZNAME:CDT
DTSTART:20250309T080000
END:DAYLIGHT
BEGIN:STANDARD
TZOFFSETFROM:-0500
TZOFFSETTO:-0600
TZNAME:CST
DTSTART:20251102T070000
END:STANDARD
BEGIN:DAYLIGHT
TZOFFSETFROM:-0600
TZOFFSETTO:-0500
TZNAME:CDT
DTSTART:20260308T080000
END:DAYLIGHT
BEGIN:STANDARD
TZOFFSETFROM:-0500
TZOFFSETTO:-0600
TZNAME:CST
DTSTART:20261101T070000
END:STANDARD
END:VTIMEZONE
BEGIN:VEVENT
DTSTART;TZID=America/Chicago:20250728T081500
DTEND;TZID=America/Chicago:20250728T091500
DTSTAMP:20260420T165137
CREATED:20250709T182059Z
LAST-MODIFIED:20250709T201239Z
UID:6846-1753690500-1753694100@www.greatergbc.org
SUMMARY:Ribbon Cutting: Altrusa Hospitality House
DESCRIPTION:Altrusa Hospitality House\n\n\n\nAltrusa Hospitality House is a “home away from home” for patients and their families who travel to Green Bay\, Wisconsin for medical care. \n\n\n\n\n\n\n\nevent details\n\n\n\n\n\nParking: Parking will be available in the Days Inn parking lot.  \n\n\n\n\n\n\n\nlocation\n\n\n\n\n\n\n\n\n\n\n\nWe reserve the right to refuse registration or deny entry to any individual\, or to request that any attendee leave the event\, at our sole discretion and without prior notice. \n\n\n\n\n\nEvent Photography: Please be advised that photo or video may be taken at this event for use on the Chamber website\, social media\, and/or other promotional materials. Your attendance at this event\, gives consent to the Greater Green Bay Chamber to use your image and likeness for educational\, archival\, or promotional purposes. \n\n\n\n\n\n\n\n\n\n\n\nQuestions?Contact Membership Engagement Manager\, Annika Osell.
URL:https://www.greatergbc.org/event/ribbon-cutting-altrusa-house/
CATEGORIES:Member Events,Ribbon Cuttings
END:VEVENT
BEGIN:VEVENT
DTSTART;TZID=America/Chicago:20250724T054500
DTEND;TZID=America/Chicago:20250724T064500
DTSTAMP:20260420T165137
CREATED:20250627T222120Z
LAST-MODIFIED:20250709T184913Z
UID:6667-1753335900-1753339500@www.greatergbc.org
SUMMARY:Ribbon Cutting: Bay Baller Sports Academy
DESCRIPTION:Bay Baller Sports Academy\n\n\n\n\n\nJoin us as we celebrate the ribbon cutting and grand opening of Bay Baller Sports Academy! Bay Baller Sports Academy is New Franken’s premier sports facility and event space\, offering everything you need to train for the sports you love all year long.  \n\n\n\n\n\nevent details\n\n\n\n\n\nParking: Parking lot is available \n\n\n\n\n\nlocation\n\n\n\n\n\n\n\n\n\nWe reserve the right to refuse registration or deny entry to any individual\, or to request that any attendee leave the event\, at our sole discretion and without prior notice. \n\n\n\n\n\nEvent Photography: Please be advised that photo or video may be taken at this event for use on the Chamber website\, social media\, and/or other promotional materials. Your attendance at this event\, gives consent to the Greater Green Bay Chamber to use your image and likeness for educational\, archival\, or promotional purposes. \n\n\n\n\n\n\n\nQuestions?Contact Membership Engagement Manager\, Annika Osell.
URL:https://www.greatergbc.org/event/ribbon-cutting-bay-baller-sports-academy/
CATEGORIES:Member Events,Ribbon Cuttings
END:VEVENT
BEGIN:VEVENT
DTSTART;TZID=America/Chicago:20250722T120000
DTEND;TZID=America/Chicago:20250722T140000
DTSTAMP:20260420T165137
CREATED:20250625T001923Z
LAST-MODIFIED:20250721T194807Z
UID:6455-1753185600-1753192800@www.greatergbc.org
SUMMARY:Night at the Neville!
DESCRIPTION:Night at the Neville!\n\n\n\nJoin in the fun! Channel your inner Larry Daley – no flashlight required. Join fellow CYP members for an evening at the Neville Public Museum\, featuring a guided tour with Executive Director Beth Kowalski.  \n\n\n\n\n\n\n\nEvent Details\n\n\n\n\n\nRegister Here\n\n\n\n\n\n\n\nLocation\n\n\n\n\n\n\n\n\n\n\n\nWe reserve the right to refuse registration or deny entry to any individual\, or to request that any attendee leave the event\, at our sole discretion and without prior notice. \n\n\n\n\n\nEvent Photography: Please be advised that photo or video may be taken at this event for use on the Chamber website\, social media\, and/or other promotional materials. Your attendance at this event\, gives consent to the Greater Green Bay Chamber to use your image and likeness for educational\, archival\, or promotional purposes. \n\n\n\n\n\nRefund Policy: As a non-profit\, all funds received from this event directly impact and support the critical programs and operations of the Greater Green Bay Chamber. Therefore\, we do not issue refunds for cancellations. We appreciate your understanding. \n\n\n\n\n\n\n\n\n\n\n\nQuestions?Contact Young Professionals Manager\, Ashlee Vyskocil.
URL:https://www.greatergbc.org/event/night-at-the-neville/
CATEGORIES:Talent & Education Events
END:VEVENT
END:VCALENDAR